BEGIN:VCALENDAR
VERSION:2.0
PRODID:-//ChamberMaster//Event Calendar 2.0//EN
METHOD:PUBLISH
X-PUBLISHED-TTL:P3D
REFRESH-INTERVAL:P3D
CALSCALE:GREGORIAN
BEGIN:VEVENT
DTSTART:20110309T003000Z
DTEND:20110309T010000Z
X-MICROSOFT-CDO-ALLDAYEVENT:FALSE
SUMMARY:1/2 Marathon Training Group at Fleet Feet Sports
DESCRIPTION:Train for your 1st\,2nd\,3rd\,or 13th 1/2 marathon\, or just stay in shape and enjoy the fun of training with a group!\n\n\n\nDo you want to prepare to run or walk/run or walk your first Half-Marathon? Have you run a few half-marathons are want to improve your time? Do you want to meet a new group of folks to run with and help keep you honest in your training?\n\n\n\nThe Fleet Feet Half-Marathon Training Program is perfect for you.
X-ALT-DESC;FMTTYPE=text/html:Train for your 1st\,2nd\,3rd\,or 13th 1/2 marathon\, or just stay in shape and enjoy the fun of training with a group!\n<br>\n<br>Do you want to prepare to run or walk/run or walk your first Half-Marathon? Have you run a few half-marathons are want to improve your time? Do you want to meet a new group of folks to run with and help keep you honest in your training?\n<br>\n<br>The Fleet Feet Half-Marathon Training Program is perfect for you. 
LOCATION:Fleet Feet Sports Elmhurst 124 E. Schiller St. Elmhurst\, IL
UID:e.333.3711
SEQUENCE:3
DTSTAMP:20260425T222312Z
URL:https://chambermaster.elmhurstchamber.org/events/details/1-2-marathon-training-group-at-fleet-feet-sports-03-08-2011-3711
END:VEVENT

END:VCALENDAR
