BEGIN:VCALENDAR
VERSION:2.0
PRODID:-//ChamberMaster//Event Calendar 2.0//EN
METHOD:PUBLISH
X-PUBLISHED-TTL:P3D
REFRESH-INTERVAL:P3D
CALSCALE:GREGORIAN
BEGIN:VEVENT
DTSTART:20120913T230000Z
DTEND:20120914T040000Z
X-MICROSOFT-CDO-ALLDAYEVENT:FALSE
SUMMARY:1/2 Way to St. Pat's Day Tailgater Fundraiser for ECAF/Kickoff
DESCRIPTION:Watch the Bears-Packers game on a 20' by 25' jumbo screen in the parking lot behind the Knights of Columbus.  The $40 ticket price includes tailgate food and 4 beers.  Bring a chair if you would like to sit.  The event will be held rain or shine and will be moved inside in the event of inclement weather.  This event is hosted by the Elmhurst St. Patrick's Day Committee and will benefit the Elmhurst Children's Assistance Foundation and Kickoff for Kids.
X-ALT-DESC;FMTTYPE=text/html:Watch the Bears-Packers game on a 20&#39\; by 25&#39\; jumbo screen in the parking lot behind the Knights of Columbus.&nbsp\; The $40 ticket price includes tailgate food and 4 beers.&nbsp\; Bring a chair if you would like to sit.&nbsp\; The event will be held rain or shine and will be moved inside in the event of inclement weather.&nbsp\; This event is hosted by the Elmhurst St. Patrick&#39\;s Day Committee and will benefit the Elmhurst Children&#39\;s Assistance Foundation and Kickoff for Kids.
LOCATION:In the Parking Lot Behind the Elmhurst Knights of Columbus at 537 S. York\, Elmhurst.
UID:e.333.4935
SEQUENCE:3
DTSTAMP:20260424T180003Z
URL:https://chambermaster.elmhurstchamber.org/events/details/1-2-way-to-st-pat-s-day-tailgater-fundraiser-for-ecaf-kickoff-09-13-2012-4935
END:VEVENT

END:VCALENDAR
