BEGIN:VCALENDAR
VERSION:2.0
PRODID:-//ChamberMaster//Event Calendar 2.0//EN
METHOD:PUBLISH
X-PUBLISHED-TTL:P3D
REFRESH-INTERVAL:P3D
CALSCALE:GREGORIAN
BEGIN:VEVENT
DTSTART:20110706T140000Z
DTEND:20110810T170000Z
X-MICROSOFT-CDO-ALLDAYEVENT:FALSE
SUMMARY:$1 Family Friendly Films at York Theatre Continues into July
DESCRIPTION:Save a bunch this summer by taking the kids to Classic Cinemas' Wednesday Morning Movie Series! Each Wednesday morning until August 10\, 2011\, Classic Cinemas' theatres are presenting G- or PG-rated films for only $1 per person! At the York Theatre\, located at 150 N. York St.\, each show will begin at 10 a.m.\, with doors opening at 9 a.m. Movie-goers are encouraged to come early for fun and games before the movie begins and to meet some of your favorite costumed characters!\n\n	Classic Cinemas takes reservations for groups of 15 or more for the Wednesday Morning Movie Series. The special group rate is just $4.50 per person (adults and children) and includes admission\, Kiddie Combo (a child-sized popcorn\, soft drink\, and fruit snack) and reserved seating. This special package offers a $1.00 discount on each Kiddie Combo and allows your group to sit together.  For more information on group reservations\, please visit http://www.classiccinemas.com/Content.aspx?page=156.\n\n	Wednesday Morning Movie Series at the York Theatre in July:\n\n	July 6:      Gulliver's Travels\n\n	Travel writer Lemuel Gulliver takes an assignment in Bermuda\, but ends up on the island of Liliput\, where he towers over its tiny citizens. \n\n	 \n\n	July 13:     Despicable Me\n\n	When a criminal mastermind uses a trio of orphan girls as pawns for a grand scheme\, he finds their love is profoundly changing him for the better. \n\n	 \n\n	July 20:     Nanny McPhee Returns\n\n	Nanny McPhee arrives to help a harried young mother who is trying to run the family farm while her husband is away at war\, though she uses her magic to teach the woman's children and their two spoiled cousins five new lessons. \n\n	 \n\n	July 27:     Cats & Dogs: The Revenge of Kitty Galore\n\n	The ongoing war between the canine and feline species is put on hold when they join forces to thwart a rogue cat spy with her own sinister plans for conquest. \n\n	 \n\n	The upcoming schedule of Wednesday Morning Movie Series at the York Theatre for the month of August includes: Megamind on August 3 and a Surprise Movie on August 10.
X-ALT-DESC;FMTTYPE=text/html:<!--StartFragment-->\n<p class="MsoNormal" style="margin-top:0in\;margin-right:.25in\;margin-bottom:12.0pt\;\nmargin-left:0in\;line-height:150%">\n	<span style="font-family:Tahoma\;mso-fareast-font-family:\nTimes\;mso-bidi-font-family:Tahoma\;color:black">Save a bunch this summer by taking the kids to Classic Cinemas&rsquo\; Wednesday Morning Movie Series! </span><span style="font-family:Tahoma">Each Wednesday morning until <b style="mso-bidi-font-weight:\nnormal">August 10\, 2011\, </b>Classic Cinemas&rsquo\; theatres are presenting G- or PG-rated films for only $1 per person! At the </span><span style="font-family:\nTahoma\;mso-fareast-font-family:Times\;mso-bidi-font-family:Tahoma\;color:black">York Theatre\, <b style="mso-bidi-font-weight:normal">located at </b></span><b style="mso-bidi-font-weight:normal"><span style="font-family:Tahoma">150 N. York St.</span></b><span style="font-family:Tahoma\;mso-fareast-font-family:\nTimes\;mso-bidi-font-family:Tahoma\;color:black">\, <b style="mso-bidi-font-weight:\nnormal">each show will</b> <b style="mso-bidi-font-weight:normal">begin at 10 a.m.\, with doors opening at 9 a.m. </b></span><span style="font-family:Tahoma">Movie-goers are encouraged to come early for fun and games before the movie begins and to meet some of your favorite costumed characters!<o:p></o:p></span></p>\n<p class="MsoNormal" style="margin-top:0in\;margin-right:-9.35pt\;margin-bottom:\n12.0pt\;margin-left:0in\;line-height:150%\;mso-pagination:none\;mso-layout-grid-align:\nnone\;text-autospace:none">\n	<span style="font-family:Tahoma">Classic Cinemas takes reservations for groups of 15 or more for the Wednesday Morning Movie Series. The special group rate is just $4.50 per person (adults and children) and includes admission\, Kiddie Combo (a child-sized popcorn\, soft drink\, and fruit snack) and <u>reserved</u> seating. </span><span style="font-family:Arial">This special package offers a $1.00 discount on each Kiddie Combo and allows your group to sit together.</span><span style="font-size:14.0pt\;line-height:150%\;\nfont-family:Arial\;color:#0066CC"> <em><b style="mso-bidi-font-weight:normal"><span style="font-family:Arial\;display:none\;mso-hide:all">&nbsp\;</span></b></em></span><span style="font-family:Tahoma">For more information on group reservations\, please visit <a href="http://www.classiccinemas.com/Content.aspx?page=156">http://www.classiccinemas.com/Content.aspx?page=156</a>.<o:p></o:p></span></p>\n<p class="MsoNormal" style="margin-right:.25in\;line-height:150%">\n	<b style="mso-bidi-font-weight:normal"><span style="font-family:Tahoma">Wednesday Morning Movie Series at the York Theatre in July:<o:p></o:p></span></b></p>\n<p class="MsoNormal" style="margin-right:.25in\;line-height:150%\;tab-stops:0in">\n	<b style="mso-bidi-font-weight:normal"><span style="font-family:Tahoma">July 6:</span></b><span style="font-family:Tahoma"><span style="mso-spacerun:\nyes">&nbsp\;&nbsp\;&nbsp\;&nbsp\;&nbsp\; </span><i style="mso-bidi-font-style:normal">Gulliver&rsquo\;s Travels<o:p></o:p></i></span></p>\n<p class="MsoNormal" style="margin-top:0in\;margin-right:.25in\;margin-bottom:0in\;\nmargin-left:.5in\;margin-bottom:.0001pt">\n	<span style="font-family:Tahoma">Travel writer Lemuel Gulliver takes an assignment in Bermuda\, but ends up on the island of Liliput\, where he towers over its tiny citizens. <o:p></o:p></span></p>\n<p class="MsoNormal" style="margin-top:0in\;margin-right:.25in\;margin-bottom:0in\;\nmargin-left:.5in\;margin-bottom:.0001pt">\n	<span style="font-family:Tahoma"><o:p>&nbsp\;</o:p></span></p>\n<p class="MsoNormal" style="margin-right:.25in\;line-height:150%\;tab-stops:0in">\n	<b style="mso-bidi-font-weight:normal"><span style="font-family:Tahoma">July 13:</span></b><span style="font-family:Tahoma"><span style="mso-spacerun:\nyes">&nbsp\;&nbsp\;&nbsp\;&nbsp\; </span><i style="mso-bidi-font-style:normal">Despicable Me<o:p></o:p></i></span></p>\n<p class="MsoNormal" style="margin-top:0in\;margin-right:.25in\;margin-bottom:0in\;\nmargin-left:.5in\;margin-bottom:.0001pt\;tab-stops:0in">\n	<span style="font-family:\nTahoma">When a criminal mastermind uses a trio of orphan girls as pawns for a grand scheme\, he finds their love is profoundly changing him for the better. <o:p></o:p></span></p>\n<p class="MsoNormal" style="margin-top:0in\;margin-right:.25in\;margin-bottom:0in\;\nmargin-left:.5in\;margin-bottom:.0001pt\;tab-stops:0in">\n	<span style="font-family:\nTahoma"><o:p>&nbsp\;</o:p></span></p>\n<p class="MsoNormal" style="margin-right:.25in\;line-height:150%\;tab-stops:0in">\n	<b style="mso-bidi-font-weight:normal"><span style="font-family:Tahoma">July 20:</span></b><span style="font-family:Tahoma"><span style="mso-spacerun:\nyes">&nbsp\;&nbsp\;&nbsp\;&nbsp\; </span><i style="mso-bidi-font-style:normal">Nanny McPhee Returns<o:p></o:p></i></span></p>\n<p class="MsoNormal" style="margin-top:0in\;margin-right:.25in\;margin-bottom:0in\;\nmargin-left:.5in\;margin-bottom:.0001pt">\n	<span style="font-family:Tahoma">Nanny McPhee arrives to help a harried young mother who is trying to run the family farm while her husband is away at war\, though she uses her magic to teach the woman&#39\;s children and their two spoiled cousins five new lessons. <o:p></o:p></span></p>\n<p class="MsoNormal" style="margin-top:0in\;margin-right:.25in\;margin-bottom:0in\;\nmargin-left:.5in\;margin-bottom:.0001pt\;tab-stops:0in">\n	<span style="font-family:\nTahoma"><o:p>&nbsp\;</o:p></span></p>\n<p class="MsoNormal" style="margin-right:.25in\;line-height:150%">\n	<b style="mso-bidi-font-weight:normal"><span style="font-family:Tahoma">July 27:<span style="mso-spacerun: yes">&nbsp\;&nbsp\;&nbsp\;&nbsp\; </span></span></b><i style="mso-bidi-font-style:normal"><span style="font-family:Tahoma">Cats &amp\; Dogs: The Revenge of Kitty Galore<o:p></o:p></span></i></p>\n<p class="MsoNormal" style="margin-top:0in\;margin-right:.25in\;margin-bottom:0in\;\nmargin-left:.5in\;margin-bottom:.0001pt\;tab-stops:0in">\n	<span style="font-family:\nTahoma">The ongoing war between the canine and feline species is put on hold when they join forces to thwart a rogue cat spy with her own sinister plans for conquest. <o:p></o:p></span></p>\n<p class="MsoNormal" style="margin-top:0in\;margin-right:.25in\;margin-bottom:0in\;\nmargin-left:.5in\;margin-bottom:.0001pt\;tab-stops:0in">\n	<span style="font-family:\nTahoma"><o:p>&nbsp\;</o:p></span></p>\n<p class="MsoNormal" style="margin-top:0in\;margin-right:.25in\;margin-bottom:12.0pt\;\nmargin-left:0in\;line-height:150%\;tab-stops:0in">\n	<span style="font-family:Tahoma">The upcoming schedule of Wednesday Morning Movie Series at the York Theatre for the month of August includes: <i style="mso-bidi-font-style:normal">Megamind </i>on <b style="mso-bidi-font-weight:normal">August 3</b> and a Surprise Movie on <b style="mso-bidi-font-weight:normal">August 10</b>.<o:p></o:p></span></p>\n<!--EndFragment-->
LOCATION:York Theatre\, 150 North York St.\, Elmhurst\, IL
UID:e.333.4249
SEQUENCE:3
DTSTAMP:20260425T161904Z
URL:https://chambermaster.elmhurstchamber.org/events/details/1-family-friendly-films-at-york-theatre-continues-into-july-07-06-2011-4249
END:VEVENT

END:VCALENDAR
