BEGIN:VCALENDAR
VERSION:2.0
PRODID:-//ChamberMaster//Event Calendar 2.0//EN
METHOD:PUBLISH
X-PUBLISHED-TTL:P3D
REFRESH-INTERVAL:P3D
CALSCALE:GREGORIAN
BEGIN:VEVENT
DTSTART:20131016T163000Z
DTEND:20131016T173000Z
X-MICROSOFT-CDO-ALLDAYEVENT:FALSE
SUMMARY:10 Leadership Tips for First-Time Managers
DESCRIPTION:Learn 10 leadership tips that can help your first-time managers succeed and avoid failure as they transition from staff to management.\n\n\n\nDave McCaffrey of Predictive Personal Assets will share those 10 tips on leadership in the second of his three human resource-related Professional Speakers Series presentation at the Chamber office on Wednesday\, October 16.\n\n\n\nComplimentary food and beverages will be served.
X-ALT-DESC;FMTTYPE=text/html:Learn 10 leadership tips that can help your first-time managers succeed and avoid failure as they transition from staff to management.<br />\n<br />\nDave McCaffrey of Predictive Personal Assets will share those 10 tips on leadership in the second of his three human resource-related Professional Speakers Series presentation at the Chamber office on Wednesday\, October 16.<br />\n<br />\nComplimentary food and beverages will be served.
LOCATION:Elmhurst Chamber of Commerce & Industry 242 N. York St.\, Ste. 102 Elmhurst\, IL
UID:e.333.5876
SEQUENCE:3
DTSTAMP:20260422T112022Z
URL:https://chambermaster.elmhurstchamber.org/events/details/10-leadership-tips-for-first-time-managers-10-16-2013-5876
END:VEVENT

END:VCALENDAR
