BEGIN:VCALENDAR
VERSION:2.0
PRODID:-//ChamberMaster//Event Calendar 2.0//EN
METHOD:PUBLISH
X-PUBLISHED-TTL:P3D
REFRESH-INTERVAL:P3D
CALSCALE:GREGORIAN
BEGIN:VEVENT
DTSTART:20120520T180000Z
DTEND:20120520T220000Z
X-MICROSOFT-CDO-ALLDAYEVENT:FALSE
SUMMARY:16th Annual Museum Day hosted by Elmhurst Museums
DESCRIPTION:Elmhurst Art Museum\, Elmhurst Historical Museum\, Lizzadro Museum of Lapidary Art and Theatre Historical Society of America will be hosting the 16th Annual Museum Day on Sunday\, May 20 from 1-5 p.m. All Elmhurst museums will be free\, and there are trolley rides to all four museums. Enjoy activities\, games and prizes.
X-ALT-DESC;FMTTYPE=text/html:Elmhurst Art Museum\, Elmhurst Historical Museum\, Lizzadro Museum of Lapidary Art and Theatre&nbsp\;Historical Society of America will be hosting the 16th Annual Museum Day on Sunday\, May 20 from 1-5 p.m. All Elmhurst museums will be free\, and there are trolley rides to all four museums. Enjoy activities\, games and prizes.
LOCATION:Elmhurst Art Museum\, Elmhurst Historical Museum\, Lizzadro Museum of Lapidary Art and Theatre Historical Society of America
UID:e.333.4847
SEQUENCE:3
DTSTAMP:20260425T003844Z
URL:https://chambermaster.elmhurstchamber.org/events/details/16th-annual-museum-day-hosted-by-elmhurst-museums-05-20-2012-4847
END:VEVENT

END:VCALENDAR
