BEGIN:VCALENDAR
VERSION:2.0
PRODID:-//ChamberMaster//Event Calendar 2.0//EN
METHOD:PUBLISH
X-PUBLISHED-TTL:P3D
REFRESH-INTERVAL:P3D
CALSCALE:GREGORIAN
BEGIN:VEVENT
DTSTART:20111124T180000Z
DTEND:20111124T193000Z
X-MICROSOFT-CDO-ALLDAYEVENT:FALSE
SUMMARY:18th Annual Thanksgiving Dinner
DESCRIPTION:Elmhurst Rotary Club will be holding their 18th Annual Thanksgiving Dinner
X-ALT-DESC;FMTTYPE=text/html:Elmhurst Rotary Club will be holding their 18th Annual Thanksgiving Dinner
LOCATION:Diplomat West 681 W. North Ave. Elmhurst\, IL 60126
UID:e.333.4531
SEQUENCE:3
DTSTAMP:20260425T102707Z
URL:https://chambermaster.elmhurstchamber.org/events/details/18th-annual-thanksgiving-dinner-11-24-2011-4531
END:VEVENT

END:VCALENDAR
