BEGIN:VCALENDAR
VERSION:2.0
PRODID:-//ChamberMaster//Event Calendar 2.0//EN
METHOD:PUBLISH
X-PUBLISHED-TTL:P3D
REFRESH-INTERVAL:P3D
CALSCALE:GREGORIAN
BEGIN:VEVENT
DTSTART;VALUE=DATE:20110309
DTEND;VALUE=DATE:20110406
TRANSP:TRANSPARENT
X-MICROSOFT-CDO-ALLDAYEVENT:TRUE
SUMMARY:2011 Consolidated Election Voters Forum Video and Voters Guide Available
DESCRIPTION:The Elmhurst League of Women Voters held its Consolidated Municipal Election Candidate Forum at Elmhurst City Hall on February 13.  The forum included candidates running for Elmhurst City Alderman\, Elmhurst Park District Board\, and Elmhurst Unit School District 205.  Election day for these races is Tuesday\, April 5\, 2011.\n\n\n\nCitizens can view the video taken of the forum by Sunrise Communications\, Inc.\, on the League's home page at http://lwvelmhurst.org/.  Cable TV broadcasts of the video will be shown on Comcast Channel 6 and AT&T U-Verse Channel 99 during the month of March on Sundays at 7:00 pm and Fridays at 4:00 pm.\n\n\n\nIn addition\, the League sent our Voters Guide questions to candidates who agreed to participate. The responses of the participating candidates who timely submitted their written answers to the League's Voter Service Chairman also can be accessed from the League's home page. The Voters Guide will be available through Election Day.
X-ALT-DESC;FMTTYPE=text/html:The Elmhurst League of Women Voters held its Consolidated Municipal Election Candidate Forum at Elmhurst City Hall on February 13.&nbsp\; The forum included candidates running for Elmhurst City Alderman\, Elmhurst Park District Board\, and Elmhurst Unit School District 205.&nbsp\; Election day for these races is Tuesday\, April 5\, 2011.<br />\n<br />\nCitizens can view the video taken of the forum by Sunrise Communications\, Inc.\, on the League&#39\;s home page at <a href="http://www.lwvelmhurst.org">http://lwvelmhurst.org/</a>.&nbsp\; Cable TV broadcasts of the video will be shown on Comcast Channel 6 and AT&amp\;T U-Verse Channel 99 during the month of March on Sundays at 7:00 pm and Fridays at 4:00 pm.<br />\n<br />\nIn addition\, the League sent our Voters Guide questions to candidates who agreed to participate. The responses of the participating candidates who timely submitted their written answers to the League&#39\;s Voter Service Chairman also can be accessed from the League&#39\;s home page. The Voters Guide will be available through Election Day. 
LOCATION:http://lwvelmhurst.org
UID:e.333.4096
SEQUENCE:3
DTSTAMP:20260425T205023Z
URL:https://chambermaster.elmhurstchamber.org/events/details/2011-consolidated-election-voters-forum-video-and-voters-guide-available-03-09-2011-4096
END:VEVENT

END:VCALENDAR
