BEGIN:VCALENDAR
VERSION:2.0
PRODID:-//ChamberMaster//Event Calendar 2.0//EN
METHOD:PUBLISH
X-PUBLISHED-TTL:P3D
REFRESH-INTERVAL:P3D
CALSCALE:GREGORIAN
BEGIN:VEVENT
DTSTART:20110514T180000Z
DTEND:20110514T190000Z
X-MICROSOFT-CDO-ALLDAYEVENT:FALSE
SUMMARY:2011 Spring Road Pet Parade
DESCRIPTION:The 23rd Annual Pet and Bike Parade\, sponsored by the Spring Road Business Association and the Elmhurst Chamber of Commerce and Industry\, will take place on Saturday\, May 14\, 2011.
X-ALT-DESC;FMTTYPE=text/html:The 23rd Annual Pet and Bike Parade\, sponsored by the <a href="http://chambermaster.elmhurstchamber.org/list/Member/spring-road-business-association-elmhurst.htm">Spring Road Business Association </a>and the <a href="http://www.elmhurstchamber.org/">Elmhurst Chamber of Commerce and Industry</a>\, will take place on Saturday\,&nbsp\;May 14\, 2011.&nbsp\;<br />\n
LOCATION:The parade route will be the same as last year\, starting from the parking lot at Ahlgrim Funeral Home near Spring Road and Vallette Street\, and progressing north on Spring Road to end at the Illinois Central Gulf railroad tracks in the parking lot of Silverado Grill.
UID:e.333.4095
SEQUENCE:3
DTSTAMP:20260425T191106Z
URL:https://chambermaster.elmhurstchamber.org/events/details/2011-spring-road-pet-parade-05-14-2011-4095
END:VEVENT

END:VCALENDAR
