BEGIN:VCALENDAR
VERSION:2.0
PRODID:-//ChamberMaster//Event Calendar 2.0//EN
METHOD:PUBLISH
X-PUBLISHED-TTL:P3D
REFRESH-INTERVAL:P3D
CALSCALE:GREGORIAN
BEGIN:VEVENT
DTSTART;VALUE=DATE:20120505
DTEND;VALUE=DATE:20120506
TRANSP:TRANSPARENT
X-MICROSOFT-CDO-ALLDAYEVENT:TRUE
SUMMARY:2nd Annual "Laughing Proud" Showcase
DESCRIPTION:"Laughing Proud" is a comedy show that features local comedians using their talents to raise money through laughter. Donations and proceeds will go towards local charities.
X-ALT-DESC;FMTTYPE=text/html:&ldquo\;Laughing Proud&rdquo\; is a comedy show that features local comedians using their talents to raise money through laughter. Donations and proceeds will go towards local charities.&nbsp\;
LOCATION:Fitz's Spare Keys 119 North York Street Elmhurst\, IL 60126
UID:e.333.4804
SEQUENCE:3
DTSTAMP:20260425T003846Z
URL:https://chambermaster.elmhurstchamber.org/events/details/2nd-annual-laughing-proud-showcase-05-05-2012-4804
END:VEVENT

END:VCALENDAR
