BEGIN:VCALENDAR
VERSION:2.0
PRODID:-//ChamberMaster//Event Calendar 2.0//EN
METHOD:PUBLISH
X-PUBLISHED-TTL:P3D
REFRESH-INTERVAL:P3D
CALSCALE:GREGORIAN
BEGIN:VEVENT
DTSTART:20130210T000000Z
DTEND:20130210T040000Z
X-MICROSOFT-CDO-ALLDAYEVENT:FALSE
SUMMARY:3rd Annual Bags for Wags-Bean Bag Tournament
DESCRIPTION:A fun filled evening with familiar faces from the neighborhood. Gather to compete in the annual Bean Bag Tournament. Get out of the cold and celebrate the start of a new year with delicious pizza\, beverages and valuable raffle prizes!\n\n \n\n	This event honors the life of Brian E. Wagner\, a gifted student and leader of the Elmhurst Community\, who died in a tragic auto accident when he was junior in high school.\n\n	 \n\n	All proceeds will benefit the BEWSF (Brian E. Wagner Scholarship Fund)\, to raise money for the annual scholarship award\, which will be presented to an outstanding high school senior who exemplifies the leadership qualities of Brian E. Wagner.
X-ALT-DESC;FMTTYPE=text/html:A fun filled evening with <span class="yiv309510394mark" id="yiv309510394misspell-3">familiar faces from the neighborhood</span>. Gather to compete in the annual Bean Bag Tournament. Get out of the cold and celebrate the start of a new year with delicious pizza\, beverages and valuable raffle prizes!<br />\n&nbsp\;\n<div>\n	This event honors the life of Brian E. Wagner\, a gifted student and leader of <span class="yiv309510394mark" id="yiv309510394misspell-4">the</span> <span class="yiv309510394mark" id="yiv309510394misspell-5">Elmhurst</span> Community\, who died in a tragic auto accident when he was junior in high school.<br />\n	&nbsp\;</div>\n<div id="yui_3_7_2_24_1357765590081_60">\n	All proceeds will benefit the <span class="yiv309510394mark" id="yiv309510394misspell-6">BEWSF</span> (Brian E. Wagner Scholarship Fund)\, to raise money for the annual scholarship award\, which will be presented to an outstanding high school senior who exemplifies the leadership qualities of Brian E. Wagner.</div>\n
LOCATION:851 S. York Rd\, Elmhurst\, IL. 60126
UID:e.333.5155
SEQUENCE:3
DTSTAMP:20260424T102844Z
URL:https://chambermaster.elmhurstchamber.org/events/details/3rd-annual-bags-for-wags-bean-bag-tournament-02-09-2013-5155
END:VEVENT

END:VCALENDAR
