BEGIN:VCALENDAR
VERSION:2.0
PRODID:-//ChamberMaster//Event Calendar 2.0//EN
METHOD:PUBLISH
X-PUBLISHED-TTL:P3D
REFRESH-INTERVAL:P3D
CALSCALE:GREGORIAN
BEGIN:VEVENT
DTSTART:20131016T123000Z
DTEND:20131016T140000Z
X-MICROSOFT-CDO-ALLDAYEVENT:FALSE
SUMMARY:6 Essential Traits of Highly Effective Managers
DESCRIPTION:Do you know the "6 Essential Traits of Highly Effective Managers" and do you (or your managers) possess them?\n\n\n\nDave McCaffrey of Predictive Personnel Assets will share the six traits identified by productive companies that help to identify and develop effective managers\, in the first of his three human-resource related Professional Speakers Series presentations at the Chamber office on Wednesday\, October 16.\n\n\n\nComplimentary food and beverages will be served.
X-ALT-DESC;FMTTYPE=text/html:<span style="font-size: 14px\;"><span style="font-family: times new roman\;">Do you know the &quot\;6 Essential Traits of Highly Effective Managers&quot\;&nbsp\;and do you (or your managers)&nbsp\;possess them?<br />\n<br />\nDave McCaffrey of Predictive Personnel Assets will&nbsp\;share the six traits&nbsp\;identified by productive companies that help to identify and develop effective managers\, in the first of&nbsp\;his three&nbsp\;human-resource related Professional Speakers Series presentations at the Chamber office on Wednesday\, October 16.<br />\n<br />\nComplimentary food and beverages&nbsp\;will be served.&nbsp\;</span></span><br />\n
LOCATION:Elmhurst Chamber of Commerce & Industry 242 N. York St.\, Ste. 102 Elmhurst\, IL
UID:e.333.5874
SEQUENCE:3
DTSTAMP:20260422T112338Z
URL:https://chambermaster.elmhurstchamber.org/events/details/6-essential-traits-of-highly-effective-managers-10-16-2013-5874
END:VEVENT

END:VCALENDAR
