BEGIN:VCALENDAR
VERSION:2.0
PRODID:-//ChamberMaster//Event Calendar 2.0//EN
METHOD:PUBLISH
X-PUBLISHED-TTL:P3D
REFRESH-INTERVAL:P3D
CALSCALE:GREGORIAN
BEGIN:VEVENT
DTSTART:20120822T140000Z
DTEND:20120822T210000Z
X-MICROSOFT-CDO-ALLDAYEVENT:FALSE
SUMMARY:64th Annual ECCI Golf Outing
DESCRIPTION:The Elmhurst Chamber of Commerce & Industry will conduct its 64th Annual Golf Outing at Sugar Creek Golf Course in Villa Park on Wednesday\, August 22.\n\n\n\nThis event is sponsored by BMO Harris Bank.
X-ALT-DESC;FMTTYPE=text/html:The Elmhurst Chamber of Commerce &amp\; Industry will conduct its 64th Annual Golf Outing at Sugar Creek Golf Course in Villa Park on Wednesday\, August 22.<br />\n<br />\nThis event is sponsored by BMO Harris Bank.
LOCATION:Sugar Creek Golf Course 500 East Van Buren Villa Park\, IL 60181
UID:e.333.4823
SEQUENCE:3
DTSTAMP:20260424T193804Z
URL:https://chambermaster.elmhurstchamber.org/events/details/64th-annual-ecci-golf-outing-08-22-2012-4823
END:VEVENT

END:VCALENDAR
