BEGIN:VCALENDAR
VERSION:2.0
PRODID:-//ChamberMaster//Event Calendar 2.0//EN
METHOD:PUBLISH
X-PUBLISHED-TTL:P3D
REFRESH-INTERVAL:P3D
CALSCALE:GREGORIAN
BEGIN:VEVENT
DTSTART;VALUE=DATE:20120221
DTEND;VALUE=DATE:20120329
TRANSP:TRANSPARENT
X-MICROSOFT-CDO-ALLDAYEVENT:TRUE
SUMMARY:6th Annual National Art Premiere
DESCRIPTION:The sixth annual National Art Premiere\, exhibiting 43 artists from across the U.S.\, opens February 21 in the Elmhurst Artists' Guild Gallery at the Elmhurst Art Museum\, 150 Cottage Hill Ave.\, Elmhurst\, Illinois.  Juried and judged by Deborah Lovely\, National Art Premiere 2012 encompasses a broad variety of media besides paintings\, including photography\, sculpture\, hand-pulled prints and fiber pieces.  An artists' reception and awards ceremony on March 2 from 7 to 9 p.m. is open to the public.  The show can be viewed until March 28 during regular Elmhurst Art Museum hours\, 10 a.m. - 5 p.m. Tuesday\, Wednesday\, Thursday and Saturday and from 10 a.m. - 8 p.m. Friday.   Admission is free all day Friday and to Museum members and children at all times.
X-ALT-DESC;FMTTYPE=text/html:<span style="font-size:11px\;"><span style="font-family:arial\;">The sixth annual National Art Premiere\, exhibiting 43 artists from across the U.S.\, opens February 21 in the Elmhurst Artists&#39\; Guild Gallery at the Elmhurst Art Museum\, 150 Cottage Hill Ave.\, Elmhurst\, Illinois.&nbsp\; Juried and judged by Deborah Lovely\, National Art Premiere 2012 encompasses a broad variety of media besides paintings\, including photography\, sculpture\, hand-pulled prints and fiber pieces.&nbsp\; An artists&#39\; reception and awards ceremony on March 2 from 7 to 9 p.m. is open to the public.&nbsp\; The show can be viewed until March 28 during regular Elmhurst Art Museum hours\, 10 a.m. - 5 p.m. Tuesday\, Wednesday\, Thursday and Saturday and from 10 a.m. - 8 p.m. Friday.&nbsp\;&nbsp\; Admission is free all day Friday and to Museum members and children at all times.</span></span>
LOCATION:Elmhurst Art Museum 150 South Cottage Hill Avenue Elmhurst\, IL 60126
UID:e.333.4784
SEQUENCE:3
DTSTAMP:20260425T035543Z
URL:https://chambermaster.elmhurstchamber.org/events/details/6th-annual-national-art-premiere-02-21-2012-4784
END:VEVENT

END:VCALENDAR
