BEGIN:VCALENDAR
VERSION:2.0
PRODID:-//ChamberMaster//Event Calendar 2.0//EN
METHOD:PUBLISH
X-PUBLISHED-TTL:P3D
REFRESH-INTERVAL:P3D
CALSCALE:GREGORIAN
BEGIN:VEVENT
DTSTART:20101106T140000Z
DTEND:20101106T200000Z
X-MICROSOFT-CDO-ALLDAYEVENT:FALSE
SUMMARY:8th Annual Craft and Bake Sale
DESCRIPTION:Immanuel Lutheran School is having the 8th Annual Craft and Bake Sale.  There will be over 25 crafters\, huge bake sale\, summer sausage and serving lunch.  The band will be playing at 11:00 am.
X-ALT-DESC;FMTTYPE=text/html:Immanuel Lutheran School is having the 8th Annual Craft and Bake Sale.&nbsp\; There will be over 25 crafters\, huge bake sale\, summer sausage and serving lunch.&nbsp\; The band will be playing at 11:00 am. 
LOCATION:Immanual Lutheran School Gym 142 E. Third St. Elmhurst\, IL 60126
UID:e.333.3500
SEQUENCE:3
DTSTAMP:20260426T042951Z
URL:https://chambermaster.elmhurstchamber.org/events/details/8th-annual-craft-and-bake-sale-11-06-2010-3500
END:VEVENT

END:VCALENDAR
