BEGIN:VCALENDAR
VERSION:2.0
PRODID:-//ChamberMaster//Event Calendar 2.0//EN
METHOD:PUBLISH
X-PUBLISHED-TTL:P3D
REFRESH-INTERVAL:P3D
CALSCALE:GREGORIAN
BEGIN:VEVENT
DTSTART:20110530T143000Z
DTEND:20110530T170000Z
X-MICROSOFT-CDO-ALLDAYEVENT:FALSE
SUMMARY:93rd Annual Elmhurst Memorial Day Parade
DESCRIPTION:Led by Grand Marshal Edwin H. Walker IV\, a decorated Major in the United States Marine Corps\, more than 80 entries will march in Elmhurst's 93rd Annual Memorial Day Parade through downtown Elmhurst on Monday\, May 30\, starting at 9:30 a.m.\, stepping off from York and Third Streets\, and will proceed to the Elmhurst Veterans Memorial in Wilder Park. \n\n	\n\n	\n		Following the parade\, a Military Ceremony will be conducted at the Veterans Memorial in Wilder Park at around 11 a.m.\n\n		\n\n		Click here for the Parade press Release:\n\n		http://www.elmhurstchamber.org/News/NewsArticleDisplay/tabid/94/smid/452/ArticleID/621/reftab/36/t/93rd-Elmhurst-Memorial-Day-Parade-is-May-30/Default.aspx\n\n		\n\n		Click Here for the Grand Marshal press release:\n\n		http://www.elmhurstchamber.org/News/NewsArticleDisplay/tabid/94/smid/452/ArticleID/620/reftab/36/t/Marine-Major-is-Elmhurst-Memorial-Day-Parade-Grand-Marshal/Default.aspx\n\n		\n\n		Click here for the Parade program with entries
X-ALT-DESC;FMTTYPE=text/html:<div>\n	Led by Grand Marshal Edwin H. Walker IV\, a decorated Major in the United States Marine Corps\, more than 80 entries will march in Elmhurst&rsquo\;s 93rd Annual Memorial Day Parade through downtown Elmhurst on Monday\, May 30\, starting at 9:30 a.m.\, stepping off from York and Third Streets\, and will proceed to the Elmhurst Veterans Memorial in Wilder Park.&nbsp\;<br />\n	<br />\n	<div>\n		Following the parade\, a Military Ceremony will be conducted at the Veterans Memorial in Wilder Park at around 11 a.m.<br />\n		<br />\n		Click here for the Parade press Release:<br />\n		<a href="http://www.elmhurstchamber.org/News/NewsArticleDisplay/tabid/94/smid/452/ArticleID/621/reftab/36/t/93rd-Elmhurst-Memorial-Day-Parade-is-May-30/Default.aspx">http://www.elmhurstchamber.org/News/NewsArticleDisplay/tabid/94/smid/452/ArticleID/621/reftab/36/t/93rd-Elmhurst-Memorial-Day-Parade-is-May-30/Default.aspx</a><br />\n		<br />\n		Click Here for the Grand Marshal press release:<br />\n		<a href="http://www.elmhurstchamber.org/News/NewsArticleDisplay/tabid/94/smid/452/ArticleID/620/reftab/36/t/Marine-Major-is-Elmhurst-Memorial-Day-Parade-Grand-Marshal/Default.aspx">http://www.elmhurstchamber.org/News/NewsArticleDisplay/tabid/94/smid/452/ArticleID/620/reftab/36/t/Marine-Major-is-Elmhurst-Memorial-Day-Parade-Grand-Marshal/Default.aspx</a><br />\n		<br />\n		<a href="http://cloud.chambermaster.com/userfiles/UserFiles/chambers/333/File/Program.11.pdf">Click&nbsp\;here</a> for the Parade&nbsp\;program with entries<br />\n		<br />\n		&nbsp\;</div>\n</div>\n
LOCATION:Steps off from York and Third Streets and will proceed to the Elmhurst Veterans Memorial in Wilder Park.
UID:e.333.3868
SEQUENCE:3
DTSTAMP:20260425T192215Z
URL:https://chambermaster.elmhurstchamber.org/events/details/93rd-annual-elmhurst-memorial-day-parade-05-30-2011-3868
END:VEVENT

END:VCALENDAR
