BEGIN:VCALENDAR
VERSION:2.0
PRODID:-//ChamberMaster//Event Calendar 2.0//EN
METHOD:PUBLISH
X-PUBLISHED-TTL:P3D
REFRESH-INTERVAL:P3D
CALSCALE:GREGORIAN
BEGIN:VEVENT
DTSTART:20130527T143000Z
DTEND:20130527T170000Z
X-MICROSOFT-CDO-ALLDAYEVENT:FALSE
SUMMARY:94th Annual Elmhurst Memorial Day Parade and Post-Parade Military Ceremony
DESCRIPTION:Elmhurst's 95th Annual Memorial Day Parade will step off at 9:30 a.m. on Memorial Day Monday\, May 27\, from York and Third streets in downtown Elmhurst\, and will proceed south to the Elmhurst Veterans Memorial in Wilder Park.\n\n\n\nGrand Marshal of this year's parade is Lt. Colonel Pete Farrell\, Professor of Military Science\, Chicago Army ROTC Fire Battalion\, University of Illinois at Chicago.\n\n\n\nThe Post-Parade Military Ceremony at the Veterans Memorial will start around 11 a.m.\n\n\n\nThe Parade and Military Ceremony are presented by the City of Elmhurst\, Elmhurst American Legion Post THB 187 and Villa Park Veterans of Foreign Wars Post 2801 and Elmhurst Chamber of Commerce & Industry.
X-ALT-DESC;FMTTYPE=text/html:<br />\n<span style="font-family: times new roman\;"><span style="font-size: 12pt\;">Elmhurst&#39\;s 95th Annual Memorial Day Parade will step off at 9:30 a.m. on Memorial Day Monday\, May 27\, from York and Third streets in downtown Elmhurst\,&nbsp\;and will proceed south&nbsp\;to the Elmhurst Veterans Memorial in Wilder Park.<br />\n<br />\nGrand Marshal&nbsp\;of this year&#39\;s parade is Lt. Colonel Pete Farrell\, Professor of Military Science\, Chicago Army ROTC Fire Battalion\, University of Illinois at Chicago.<br />\n<br />\nThe Post-Parade Military Ceremony at&nbsp\;the&nbsp\;Veterans Memorial will start around 11 a.m.<br />\n<br />\nThe Parade and Military Ceremony are&nbsp\;presented by the City of Elmhurst\, Elmhurst American&nbsp\;Legion Post THB 187 and&nbsp\;Villa Park&nbsp\;Veterans of Foreign Wars&nbsp\;Post&nbsp\;2801 and Elmhurst Chamber of Commerce&nbsp\;&amp\; Industry.</span></span>
LOCATION:Step off at York and Third streets in downtown Elmhurst.
UID:e.333.5279
SEQUENCE:3
DTSTAMP:20260422T194619Z
URL:https://chambermaster.elmhurstchamber.org/events/details/94th-annual-elmhurst-memorial-day-parade-and-post-parade-military-ceremony-05-27-2013-5279
END:VEVENT

END:VCALENDAR
