BEGIN:VCALENDAR
VERSION:2.0
PRODID:-//ChamberMaster//Event Calendar 2.0//EN
METHOD:PUBLISH
X-PUBLISHED-TTL:P3D
REFRESH-INTERVAL:P3D
CALSCALE:GREGORIAN
BEGIN:VEVENT
DTSTART:20120528T143000Z
DTEND:20120528T170000Z
X-MICROSOFT-CDO-ALLDAYEVENT:FALSE
SUMMARY:94th Annual Elmhurst Memorial Day Parade and Post-Parade Military Ceremony
DESCRIPTION:Elmhurst's 94th Annual Memorial Day Parade will step off at 9:30 a.m. on Memorial Day Monday\, May 28\, from York and Third streets\, and will proceed south to the Elmhurst Veterans Memorial in Wilder Park.\n\n\n\nGrand Marshal of this year's parade is Leonard F. Prescott\, who was a World War II-decorated Petty Officer in the United States Navy.\n\n\n\nThe Post-Parade Military Ceremony at the Veterans Memorial will start around 11 a.m.\n\n\n\nThe Parade and Military Ceremony are presented by the City of Elmhurst\, Elmhurst American Legion Post THB 187 and Villa Park Veterans of Foreign Wars Post 2801 and Elmhurst Chamber of Commerce & Industry.
X-ALT-DESC;FMTTYPE=text/html:<br />\n<span style="font-family: times new roman"><span style="font-size: 12pt"><a href="http://www.elmhurstchamber.org/News/NewsArticleDisplay/tabid/94/smid/452/ArticleID/712/reftab/95/t/Elmhurst-Celebrates-Memorial-Day-with-94th-Parade-on-May-28/Default.aspx">Elmhurst&#39\;s 94th Annual Memorial Day Parade</a> will step off at 9:30 a.m. on Memorial Day Monday\, May 28\, from York and Third streets\,&nbsp\;and will proceed south&nbsp\;to the Elmhurst Veterans Memorial in Wilder Park.<br />\n<br />\n<a href="http://www.elmhurstchamber.org/News/NewsArticleDisplay/tabid/94/smid/452/ArticleID/711/reftab/95/t/World-War-II-Navy-Vet-is-Grand-Marshal-for-Elmhursts-94th-Memorial-Day-Parade/Default.aspx">Grand Marshal</a>&nbsp\;of this year&#39\;s parade is Leonard F. Prescott\, who was a World War II-decorated Petty Officer in the United States Navy.<br />\n<br />\nThe Post-Parade Military Ceremony at&nbsp\;the&nbsp\;Veterans Memorial will start around 11 a.m.<br />\n<br />\nThe Parade and Military Ceremony are&nbsp\;presented by the City of Elmhurst\, Elmhurst American&nbsp\;Legion Post THB 187 and&nbsp\;Villa Park&nbsp\;Veterans of Foreign Wars&nbsp\;Post&nbsp\;2801 and Elmhurst Chamber of Commerce&nbsp\;&amp\; Industry.</span></span>
LOCATION:Step off at York and Third streets.
UID:e.333.4832
SEQUENCE:3
DTSTAMP:20260425T004142Z
URL:https://chambermaster.elmhurstchamber.org/events/details/94th-annual-elmhurst-memorial-day-parade-and-post-parade-military-ceremony-05-28-2012-4832
END:VEVENT

END:VCALENDAR
