BEGIN:VCALENDAR
VERSION:2.0
PRODID:-//ChamberMaster//Event Calendar 2.0//EN
METHOD:PUBLISH
X-PUBLISHED-TTL:P3D
REFRESH-INTERVAL:P3D
CALSCALE:GREGORIAN
BEGIN:VEVENT
DTSTART:20111204T013000Z
DTEND:20111204T033000Z
X-MICROSOFT-CDO-ALLDAYEVENT:FALSE
SUMMARY:A Christmas Celebration with The Chicago Children's Choir
DESCRIPTION:Music at Bethel is proud to present the world renowned Chicago Children's Choir Concert Choir on Saturday\, December 3 at 7:30 pm.\n\n	Experience the infectious joy and excellence of the Emmy Award-winning Chicago Children's Choir as their elite ensemble kicks off the Christmas Season in Bethel's acoustically magnificent santcuary. Selections will include "Cool Yule\," "Winter Wonderland\," "Carol of the Bells\," "Go Tell it on the Mountain" and numerous other numbers.\n\n	This performance is one of only three public appearances the choir gives in a year\, and the only venue with less than 400 seats.
X-ALT-DESC;FMTTYPE=text/html:<p>\n	Music at Bethel is proud to present the world renowned Chicago Children&#39\;s Choir Concert Choir on Saturday\, December 3 at 7:30 pm.</p>\n<p>\n	Experience the infectious joy and excellence of the Emmy Award-winning Chicago Children&rsquo\;s Choir as their elite ensemble kicks off the Christmas Season in Bethel&#39\;s acoustically magnificent santcuary. Selections will include &quot\;Cool Yule\,&quot\; &quot\;Winter Wonderland\,&quot\; &quot\;Carol of the Bells\,&quot\; &quot\;Go Tell it on the Mountain&quot\; and numerous other numbers.</p>\n<p>\n	This performance is one of only three public appearances the choir gives in a year\, and the only venue with less than 400 seats.</p>\n
LOCATION:Bethel United Church of Christ 315 E St. Charles Road Elmhurst\, IL 60126
UID:e.333.4722
SEQUENCE:3
DTSTAMP:20260425T103128Z
URL:https://chambermaster.elmhurstchamber.org/events/details/a-christmas-celebration-with-the-chicago-children-s-choir-12-03-2011-4722
END:VEVENT

END:VCALENDAR
