BEGIN:VCALENDAR
VERSION:2.0
PRODID:-//ChamberMaster//Event Calendar 2.0//EN
METHOD:PUBLISH
X-PUBLISHED-TTL:P3D
REFRESH-INTERVAL:P3D
CALSCALE:GREGORIAN
BEGIN:VEVENT
DTSTART:20130504T200000Z
DTEND:20130504T230000Z
X-MICROSOFT-CDO-ALLDAYEVENT:FALSE
SUMMARY:"A Day at the Derby" To Benefit Special Kids Day
DESCRIPTION:Elmhurst Newcomers and Neighbors is proud to support Special Kids Day.\n\nPlease join us for heave hors d'oeuvres\, cocktails\, live music\, and an impressive silent auction.  \n\n\n\nDerby wear recommended!! A prize will be awarded for the best dressed. \n\n\n\nSpecial Kids Day is a not-for-profit\, 501(c)-(3) organization dedicated to providing celebratory events for children with disabilities and their families in environments designed to accommodate their special needs.\n\n\n\nThis event is for adults only.
X-ALT-DESC;FMTTYPE=text/html:Elmhurst Newcomers and Neighbors is proud to support Special Kids Day.<br />\nPlease join us for heave hors d&#39\;oeuvres\, cocktails\, live music\, and an impressive silent auction. &nbsp\;<br />\n<br />\n<span style="font-size:12px\;"><span style="font-family: arial\;">Derby wear recommended!! A prize will be awarded for the best dressed.&nbsp\;<br />\n<br />\nSpecial Kids Day is a not-for-profit\, 501(c)-(3) organization dedicated to providing celebratory events for children with disabilities and their families in environments designed to accommodate their special needs.</span></span><br />\n<br />\nThis event is for adults only.&nbsp\;<br />\n<br />\n
LOCATION:Flight 112\, 112 E. Park Ave Elmhurst\, IL 60126
UID:e.333.5284
SEQUENCE:3
DTSTAMP:20260422T194549Z
URL:https://chambermaster.elmhurstchamber.org/events/details/a-day-at-the-derby-to-benefit-special-kids-day-05-04-2013-5284
END:VEVENT

END:VCALENDAR
