BEGIN:VCALENDAR
VERSION:2.0
PRODID:-//ChamberMaster//Event Calendar 2.0//EN
METHOD:PUBLISH
X-PUBLISHED-TTL:P3D
REFRESH-INTERVAL:P3D
CALSCALE:GREGORIAN
BEGIN:VEVENT
DTSTART:20111026T180000Z
DTEND:20111026T230000Z
X-MICROSOFT-CDO-ALLDAYEVENT:FALSE
SUMMARY:''A Passport to Success'' Business-to-Business Expo
DESCRIPTION:Our Chamber's "A Passport to Success" 2012 Business-to-Business Expo will be held at The Waterford Banquet and Conference Center on Thursday\, October 18\, from 1 to 6pm.  Speed Networking for 50 will be held from 1 to 2pm and the Expo runs from 2 to 6pm\n\n		 \n\n		The Expo is sponsored jointly with the Addison Chamber of Commerce & Industry\, Bensenville Chamber of Commerce & Industry\, Hillside/Berkeley Chamber of Commerce\, Melrose Park Chamber of Commerce and Villa Park Chamber of Commerce.  Event sponsors include BMO Harris Bank\, AT&T and Inland Bank\n\n		\n\n		Vendor registration must be done online or through the Elmhurst Chamber by phone at 630-834-6060 or e-mail at info@elmhurstchamber.org \n\n		\n\n		Food vendors from participating chambers are FREE\n\n		Vendors fee are $150 for members and $250 for non-members \n\n		There is a $25 charge for electricity \n\n		\n\n		Register for the Speed Networking for 50 must be done through the Elmhurst Chamber\, not online. Only one representative per business a part of the chamber will be allowed to participate.
X-ALT-DESC;FMTTYPE=text/html:<div>\n	<div>\n		Our Chamber&rsquo\;s <strong>&quot\;A Passport to Success&quot\; 2012&nbsp\;Business-to-Business Expo</strong> will be held at The Waterford Banquet and Conference Center on Thursday\, October 18\,&nbsp\;from 1 to 6pm.&nbsp\; Speed Networking for 50 will be held from 1 to 2pm and the Expo runs from 2 to 6pm<br />\n		&nbsp\;<br />\n		The Expo is&nbsp\;sponsored jointly with the Addison Chamber of Commerce &amp\; Industry\, Bensenville Chamber of Commerce &amp\; Industry\, Hillside/Berkeley Chamber of Commerce\, Melrose Park Chamber of Commerce and Villa Park Chamber of Commerce.&nbsp\; Event sponsors include BMO Harris Bank\, AT&amp\;T and Inland Bank<br />\n		<br />\n		Vendor registration must be done online or through the Elmhurst Chamber by phone at 630-834-6060 or e-mail at info@elmhurstchamber.org&nbsp\;<br />\n		<br />\n		Food vendors from participating chambers are FREE<br />\n		Vendors fee are $150 for members and $250 for non-members&nbsp\;<br />\n		There is a $25 charge for electricity&nbsp\;<br />\n		<br />\n		Register for the Speed Networking for 50 must be done through the Elmhurst Chamber\, not online. Only one representative&nbsp\;per business a part of the chamber will be allowed to participate.&nbsp\;<br />\n		&nbsp\;<br />\n		<br />\n		<br />\n		<br />\n		<br />\n		<br />\n		&nbsp\;&nbsp\;<br />\n		<br />\n		<br />\n		&nbsp\;</div>\n</div>\n
LOCATION:The Waterford Banquet & Conference Center 933 South Riverside Dr. Elmhurst\, IL 60126
UID:e.333.4238
SEQUENCE:3
DTSTAMP:20260425T132718Z
URL:https://chambermaster.elmhurstchamber.org/events/details/a-passport-to-success-business-to-business-expo-10-26-2011-4238
END:VEVENT

END:VCALENDAR
