BEGIN:VCALENDAR
VERSION:2.0
PRODID:-//ChamberMaster//Event Calendar 2.0//EN
METHOD:PUBLISH
X-PUBLISHED-TTL:P3D
REFRESH-INTERVAL:P3D
CALSCALE:GREGORIAN
BEGIN:VEVENT
DTSTART:20110214T150000Z
DTEND:20110218T230000Z
X-MICROSOFT-CDO-ALLDAYEVENT:FALSE
SUMMARY:A to Z Pediatric and Youth Healthcare Open House Week
DESCRIPTION:You are invited to visit our new clinic in Addison during our Open House Week. We encourage members intersted in meeting the new pediatric specialist in Addison\, Dr. W. Daniel Perez\, and his friendly staff to visit!  Refreshment and appetizers will be served.  A complimentary gift bag will be given to each guest.  This is also an event highly recommended for prospective parents interested in finding a highly qualified pediatrician for their new baby so they can interview Dr. Perez regarding his pediatric expertise and pediatric services.  You will receive a tour of our brand new clinic that includes a educational children's play area.
X-ALT-DESC;FMTTYPE=text/html:You are invited to visit our new clinic in Addison during our Open House Week. We encourage members intersted in meeting the new pediatric specialist in Addison\, Dr. W. Daniel Perez\, and his friendly staff to visit!  Refreshment and appetizers will be served.  A complimentary gift bag will be given to each guest.  This is also an event highly recommended for prospective parents interested in finding a highly qualified pediatrician for their new baby so they can interview Dr. Perez regarding his pediatric expertise and pediatric services.  You will receive a tour of our brand new clinic that includes a educational children's play area.  
LOCATION:A to Z Pediatric and Youth Healthcare 721 W. Lake St.\, Suite 202\, Addison\, IL 60101
UID:e.333.3865
SEQUENCE:3
DTSTAMP:20260425T234201Z
URL:https://chambermaster.elmhurstchamber.org/events/details/a-to-z-pediatric-and-youth-healthcare-open-house-week-02-14-2011-3865
END:VEVENT

END:VCALENDAR
