BEGIN:VCALENDAR
VERSION:2.0
PRODID:-//ChamberMaster//Event Calendar 2.0//EN
METHOD:PUBLISH
X-PUBLISHED-TTL:P3D
REFRESH-INTERVAL:P3D
CALSCALE:GREGORIAN
BEGIN:VEVENT
DTSTART:20110218T183000Z
DTEND:20110218T190000Z
X-MICROSOFT-CDO-ALLDAYEVENT:FALSE
SUMMARY:A to Z Pediatric and Youth Healthcare Ribbon Cutting Ceremony
DESCRIPTION:Ribbon Cutting for A to Z Pediatric Youth and Healthcare. A new pediatric serving the people of Elmhurst\, Addison\, and surrounding suburbs.
X-ALT-DESC;FMTTYPE=text/html:Ribbon Cutting for A to Z Pediatric Youth and Healthcare. A new pediatric serving the people of Elmhurst\, Addison\, and surrounding suburbs.
LOCATION:721 W. Lake Street\, Addison\, IL 60126
UID:e.333.3869
SEQUENCE:3
DTSTAMP:20260425T234201Z
URL:https://chambermaster.elmhurstchamber.org/events/details/a-to-z-pediatric-and-youth-healthcare-ribbon-cutting-ceremony-02-18-2011-3869
END:VEVENT

END:VCALENDAR
