BEGIN:VCALENDAR
VERSION:2.0
PRODID:-//ChamberMaster//Event Calendar 2.0//EN
METHOD:PUBLISH
X-PUBLISHED-TTL:P3D
REFRESH-INTERVAL:P3D
CALSCALE:GREGORIAN
BEGIN:VEVENT
DTSTART:20110730T140000Z
DTEND:20110730T170000Z
X-MICROSOFT-CDO-ALLDAYEVENT:FALSE
SUMMARY:A to Z Wellness Workshop
DESCRIPTION:A workshop for Parents and Grandparents.  FREE for parents to particiapte\, but seating is limited. \n\n\n	\n		Become a smart grocery shopper and use nutrition labels\n	\n		Learn how to integrate fitness in your child and adolescents life\n	\n		Receive the tools you need to provide healthy meals and snacks for your family\n	\n		Learn how to decrease your child's diabetic risk in the next 10 years\n	\n		Improve your family's well being by calculating and using their BMI\n	\n		Receive Family Wellness Gift $100 value upon completion of the 3 day workshop\n	\n		Workshop will be offered in two languages (English and Spanish)
X-ALT-DESC;FMTTYPE=text/html:A workshop for Parents and Grandparents.&nbsp\; FREE for parents to particiapte\, but seating is limited.&nbsp\;<br />\n<ul>\n	<li>\n		Become a smart grocery shopper and use nutrition labels</li>\n	<li>\n		Learn how to integrate fitness in your child and adolescents life</li>\n	<li>\n		Receive the tools you need to provide healthy meals and snacks for your family</li>\n	<li>\n		Learn how to decrease your child&#39\;s diabetic risk in the next 10 years</li>\n	<li>\n		Improve your family&#39\;s well being by calculating and using their BMI</li>\n	<li>\n		Receive Family Wellness Gift $100 value upon completion of the 3 day workshop</li>\n	<li>\n		Workshop will be offered in two languages (English and Spanish)</li>\n</ul>\n
LOCATION:A to Z Pediatric and Youth Healthcare 721 W. Lake St.\, Ste 202 Addison\, IL 60101
UID:e.333.4186
SEQUENCE:3
DTSTAMP:20260425T161432Z
URL:https://chambermaster.elmhurstchamber.org/events/details/a-to-z-wellness-workshop-07-30-2011-4186
END:VEVENT

END:VCALENDAR
