BEGIN:VCALENDAR
VERSION:2.0
PRODID:-//ChamberMaster//Event Calendar 2.0//EN
METHOD:PUBLISH
X-PUBLISHED-TTL:P3D
REFRESH-INTERVAL:P3D
CALSCALE:GREGORIAN
BEGIN:VEVENT
DTSTART:20101117T190000Z
DTEND:20101117T210000Z
X-MICROSOFT-CDO-ALLDAYEVENT:FALSE
SUMMARY:AARP Presentation
DESCRIPTION:The new Health Care Law and what it means to you
X-ALT-DESC;FMTTYPE=text/html:The new Health Care Law and what it means to you
LOCATION:Elmhurst Pointe 111 West Third St.
UID:e.333.3524
SEQUENCE:3
DTSTAMP:20260426T042549Z
URL:https://chambermaster.elmhurstchamber.org/events/details/aarp-presentation-11-17-2010-3524
END:VEVENT

END:VCALENDAR
