BEGIN:VCALENDAR
VERSION:2.0
PRODID:-//ChamberMaster//Event Calendar 2.0//EN
METHOD:PUBLISH
X-PUBLISHED-TTL:P3D
REFRESH-INTERVAL:P3D
CALSCALE:GREGORIAN
BEGIN:VEVENT
DTSTART;VALUE=DATE:20130801
DTEND;VALUE=DATE:20130805
TRANSP:TRANSPARENT
X-MICROSOFT-CDO-ALLDAYEVENT:TRUE
SUMMARY:AAUW Used Book Sale (Aug 1-4)
DESCRIPTION:Great sale!  Thousands of used books will be on sale\, as well as CDs\, DVDs\, cassette tapes and records.  Highly organized into over 30 categories\, including a large Children's Section and Collector's Area\, most items are priced from $.50 to $2.00 each.\n\n\n\nProceeds from the sale are used by AAUW Elmhurst to provide grants and scholarships for students at the local and national level.
X-ALT-DESC;FMTTYPE=text/html:Great sale!&nbsp\; Thousands of used books will be on sale\, as well as CDs\, DVDs\, cassette tapes and records.&nbsp\; Highly organized into over 30 categories\, including a large Children&rsquo\;s Section and Collector&rsquo\;s Area\, most items are priced from $.50 to $2.00 each.<br />\n<br />\nProceeds from the sale are used by AAUW Elmhurst to provide grants and scholarships for students at the local and national level.
LOCATION:Jackson Elementary School 925 Swain Elmhurst
UID:e.333.5562
SEQUENCE:3
DTSTAMP:20260422T133825Z
URL:https://chambermaster.elmhurstchamber.org/events/details/aauw-used-book-sale-aug-1-4-08-01-2013-5562
END:VEVENT

END:VCALENDAR
