BEGIN:VCALENDAR
VERSION:2.0
PRODID:-//ChamberMaster//Event Calendar 2.0//EN
METHOD:PUBLISH
X-PUBLISHED-TTL:P3D
REFRESH-INTERVAL:P3D
CALSCALE:GREGORIAN
BEGIN:VEVENT
DTSTART:20120905T000000Z
DTEND:20121219T033000Z
X-MICROSOFT-CDO-ALLDAYEVENT:FALSE
SUMMARY:Adult Drop-In Open Gym
DESCRIPTION:Looking to shoot some hoops or get into some volleyball? Come join us for open gym. Monday the volleyball nets will be set up and Tuesday everything will be wide open for basketball. Fees are collected at the door each night and participants are asked to bring their own basketballs or volleyballs. I.D. must be shown to prove residency. \n\n	 \n\n	Fee: $5R/$7NR\n\n	Time:  Mondays\, Sept. 10   Dec. 17     7   9:30 p.m.\n\n	           Tuesdays\, Sept. 4   Dec. 18       7   9:30 p.m.  \n\n	 \n\n	Location: Churchville Middle School\n\n	Ages 18 & older
X-ALT-DESC;FMTTYPE=text/html:<p class="MsoNormal" style="margin: 0in 0in 0pt">\n	<span style="line-height: 115%\; font-family: 'cambria'\, 'serif'\; font-size: 12pt\; mso-ascii-theme-font: major-latin\; mso-hansi-theme-font: major-latin"><font color="#000000">Looking to shoot some hoops or get into some volleyball? Come join us for open gym. Monday the volleyball nets will be set up and Tuesday everything will be wide open for basketball. Fees are collected at the door each night and participants are asked to bring their own basketballs or volleyballs. I.D. must be shown to prove residency. <o:p></o:p></font></span></p>\n<p class="MsoNormal" style="margin: 0in 0in 0pt">\n	<span style="line-height: 115%\; font-family: 'cambria'\, 'serif'\; font-size: 12pt\; mso-ascii-theme-font: major-latin\; mso-hansi-theme-font: major-latin"><o:p><font color="#000000">&nbsp\;</font></o:p></span></p>\n<p class="MsoNormal" style="margin: 0in 0in 0pt">\n	<span style="line-height: 115%\; font-family: 'cambria'\, 'serif'\; font-size: 12pt\; mso-ascii-theme-font: major-latin\; mso-hansi-theme-font: major-latin"><font color="#000000">Fee: $5R/$7NR</font></span></p>\n<p class="MsoNormal" style="margin: 0in 0in 0pt">\n	<span style="line-height: 115%\; font-family: 'cambria'\, 'serif'\; font-size: 12pt\; mso-ascii-theme-font: major-latin\; mso-hansi-theme-font: major-latin"><font color="#000000">Time:<span style="mso-tab-count: 1">&nbsp\; </span>Mondays\,<span style="mso-tab-count: 1">&nbsp\;</span>Sept. 10 &ndash\; Dec. 17<span style="mso-tab-count: 1">&nbsp\;&nbsp\;&nbsp\;&nbsp\;&nbsp\;</span>7 &ndash\; 9:30 p.m.<o:p></o:p></font></span></p>\n<p class="MsoNormal" style="margin: 0in 0in 0pt">\n	<span style="line-height: 115%\; font-family: 'cambria'\, 'serif'\; font-size: 12pt\; mso-ascii-theme-font: major-latin\; mso-hansi-theme-font: major-latin"><font color="#000000"><span style="mso-tab-count: 1">&nbsp\;&nbsp\;&nbsp\;&nbsp\;&nbsp\;&nbsp\;&nbsp\;&nbsp\;&nbsp\;&nbsp\;&nbsp\;</span>Tuesdays\,<span style="mso-tab-count: 1">&nbsp\;</span>Sept. 4 &ndash\; Dec. 18<span style="mso-tab-count: 1">&nbsp\;&nbsp\;&nbsp\;&nbsp\;&nbsp\;&nbsp\; </span>7 &ndash\; 9:30 p.m.<span style="mso-spacerun: yes">&nbsp\; </span></font></span><br />\n	&nbsp\;</p>\n<p class="MsoNormal" style="margin: 0in 0in 0pt">\n	<span style="line-height: 115%\; font-family: 'cambria'\, 'serif'\; font-size: 12pt\; mso-ascii-theme-font: major-latin\; mso-hansi-theme-font: major-latin"><font color="#000000">Location: Churchville Middle School<br />\n	Ages 18 &amp\; older</font></span></p>\n
LOCATION:Churchville Middle School\, 115 Victory Pkwy.
UID:e.333.4918
SEQUENCE:3
DTSTAMP:20260424T132117Z
URL:https://chambermaster.elmhurstchamber.org/events/details/adult-drop-in-open-gym-09-04-2012-4918
END:VEVENT

END:VCALENDAR
