BEGIN:VCALENDAR
VERSION:2.0
PRODID:-//ChamberMaster//Event Calendar 2.0//EN
METHOD:PUBLISH
X-PUBLISHED-TTL:P3D
REFRESH-INTERVAL:P3D
CALSCALE:GREGORIAN
BEGIN:VEVENT
DTSTART:20111119T000000Z
DTEND:20111119T040000Z
X-MICROSOFT-CDO-ALLDAYEVENT:FALSE
SUMMARY:"Aging Gracefully" Wine Tasting & Benefit Auction
DESCRIPTION:Join us to sample a wide selection of wines and hear tips on wine pairing for the upcoming holiday season. Enjoy a delicious selection of hors d'oeuvres and desserts while mingling with others. Guests will have the opportunity to bid on valuable auction items\, with proceeds benefiting the DuPage Senior Citizens Council (DSCC)\, DuPage County's designated "Meals on Wheels" provider.\n\n\n\nEstablished in 1975\, the DuPage Senior Citizens Council (DSCC) is a non-profit agency dedicated to seniors. DSCC operates as DuPage County's designated "Meals on Wheels" provider and offers Community Dining\, Home Maintenance\, Chore Days\, Well-Being Checks\, and Health and Wellness Education Programs for the elderly. Nearly 2\,000 volunteers and staff of DSCC help aging persons remain in their homes and live in dignity with as much independence as possible.
X-ALT-DESC;FMTTYPE=text/html:Join us to sample a wide selection of wines and hear tips on wine pairing for the upcoming holiday season. Enjoy a delicious selection of hors d&#39\;oeuvres and desserts while mingling with others. Guests will have the opportunity to bid on valuable auction items\, with proceeds benefiting the DuPage Senior Citizens Council (DSCC)\, DuPage County&#39\;s designated &quot\;Meals on Wheels&quot\; provider.<br />\n<br />\nEstablished in 1975\, the DuPage Senior Citizens Council (DSCC) is a non-profit agency dedicated to seniors. DSCC operates as DuPage County&#39\;s designated &quot\;Meals on Wheels&quot\; provider and offers Community Dining\, Home Maintenance\, Chore Days\, Well-Being Checks\, and Health and Wellness Education Programs for the elderly. Nearly 2\,000 volunteers and staff of DSCC help aging persons remain in their homes and live in dignity with as much independence as possible.<br />\n
LOCATION:Northern Illinois University/Naperville Campus 1120 E. Diehl Road\, Naperville\, IL 60563
UID:e.333.4499
SEQUENCE:3
DTSTAMP:20260425T102816Z
URL:https://chambermaster.elmhurstchamber.org/events/details/aging-gracefully-wine-tasting-benefit-auction-11-18-2011-4499
END:VEVENT

END:VCALENDAR
