BEGIN:VCALENDAR
VERSION:2.0
PRODID:-//ChamberMaster//Event Calendar 2.0//EN
METHOD:PUBLISH
X-PUBLISHED-TTL:P3D
REFRESH-INTERVAL:P3D
CALSCALE:GREGORIAN
BEGIN:VEVENT
DTSTART:20110720T210000Z
DTEND:20110721T000000Z
X-MICROSOFT-CDO-ALLDAYEVENT:FALSE
SUMMARY:All 'Smurfed' Up at Classic Cinemas
DESCRIPTION:@font-face {\n  font-family: "Tahoma"\;\n}p.MsoNormal\, li.MsoNormal\, div.MsoNormal { margin: 0in 0in 0.0001pt\; font-size: 12pt\; font-family: "Times New Roman"\; }div.Section1 { page: Section1\; }\nThe one and only Smurfette will be making a special appearance at select Classic Cinemas locations to mark the opening of The Smurfs on July 29th. Bring the entire family and don't forget your cameras for this very "smurftastic'' visit! The Sony Pictures Smurfette costume character will be appearing at the York Theatre
X-ALT-DESC;FMTTYPE=text/html:<style type="text/css">\n@font-face {\n  font-family: "Tahoma"\;\n}p.MsoNormal\, li.MsoNormal\, div.MsoNormal { margin: 0in 0in 0.0001pt\; font-size: 12pt\; font-family: "Times New Roman"\; }div.Section1 { page: Section1\; }</style>\n<span style="font-size: 12pt\; font-family: Tahoma\;">The one and only<b style=""> Smurfette will be making a special appearance </b>at<b style=""> </b>select Classic Cinemas locations to mark the opening of <i style="">The Smurfs </i>on July 29<sup>th</sup>. Bring the entire family and don&rsquo\;t forget your cameras for this very &ldquo\;smurftastic&rsquo\;&rsquo\; visit! The <b style="">Sony Pictures Smurfette costume character</b> will be appearing at the York Theatre </span> 
LOCATION:York Theatre 150 N. York Rd
UID:e.333.4254
SEQUENCE:3
DTSTAMP:20260425T161703Z
URL:https://chambermaster.elmhurstchamber.org/events/details/all-smurfed-up-at-classic-cinemas-07-20-2011-4254
END:VEVENT

END:VCALENDAR
