BEGIN:VCALENDAR
VERSION:2.0
PRODID:-//ChamberMaster//Event Calendar 2.0//EN
METHOD:PUBLISH
X-PUBLISHED-TTL:P3D
REFRESH-INTERVAL:P3D
CALSCALE:GREGORIAN
BEGIN:VEVENT
DTSTART:20121127T003000Z
DTEND:20121127T013000Z
X-MICROSOFT-CDO-ALLDAYEVENT:FALSE
SUMMARY:Amazing Gingerbread Houses
DESCRIPTION:There's no better way to celebrate the winter season than by designing and decorating your own gingerbread house! Ultimate Classes and Parties has designed this class to be a special family night out. We will provide everything needed along with a snack and beverage. This class is sure to be a hit\, so sign up early! \n\n	\n\n	 \n\n	Fee: $33R/$41NR couple\n\n	Time: 6:30   7:30 p.m.\n\n	Location: Wagner Community Center Multipurpose Room D\n\n	Ages 3-12 (parent/child)
X-ALT-DESC;FMTTYPE=text/html:<p class="MsoNormal" style="margin: 0in 0in 0pt">\n	<span style="line-height: 115%\; font-family: 'cambria'\, 'serif'\; font-size: 12pt\; mso-ascii-theme-font: major-latin\; mso-hansi-theme-font: major-latin"><font color="#000000">There&rsquo\;s no better way to celebrate the winter season than by designing and decorating your own gingerbread house! Ultimate Classes and Parties has designed this class to be a special family night out. We will provide everything needed along with a snack and beverage. This class is sure to be a hit\, so sign up early! </font></span><br />\n	<br />\n	&nbsp\;</p>\n<p class="MsoNormal" style="margin: 0in 0in 0pt">\n	<span style="line-height: 115%\; font-family: 'cambria'\, 'serif'\; font-size: 12pt\; mso-ascii-theme-font: major-latin\; mso-hansi-theme-font: major-latin"><font color="#000000"><span style="line-height: 115%\; font-family: 'cambria'\, 'serif'\; font-size: 12pt\; mso-ascii-theme-font: major-latin\; mso-hansi-theme-font: major-latin">Fee: $33R/$41NR couple<o:p></o:p></span></font></span></p>\n<p class="MsoNormal" style="margin: 0in 0in 0pt">\n	<span style="line-height: 115%\; font-family: 'cambria'\, 'serif'\; font-size: 12pt\; mso-ascii-theme-font: major-latin\; mso-hansi-theme-font: major-latin"><font color="#000000"><span style="line-height: 115%\; font-family: 'cambria'\, 'serif'\; font-size: 12pt\; mso-ascii-theme-font: major-latin\; mso-hansi-theme-font: major-latin">Time: 6:30 &ndash\; 7:30 p.m.<o:p></o:p></span></font></span></p>\n<p class="MsoNormal" style="margin: 0in 0in 0pt">\n	<span style="line-height: 115%\; font-family: 'cambria'\, 'serif'\; font-size: 12pt\; mso-ascii-theme-font: major-latin\; mso-hansi-theme-font: major-latin"><font color="#000000"><span style="line-height: 115%\; font-family: 'cambria'\, 'serif'\; font-size: 12pt\; mso-ascii-theme-font: major-latin\; mso-hansi-theme-font: major-latin">Location: Wagner Community Center Multipurpose Room D<o:p></o:p></span></font></span></p>\n<p class="MsoNormal" style="margin: 0in 0in 0pt">\n	<span style="line-height: 115%\; font-family: 'cambria'\, 'serif'\; font-size: 12pt\; mso-ascii-theme-font: major-latin\; mso-hansi-theme-font: major-latin"><font color="#000000">Ages 3-12 (parent/child) </font></span></p>\n
LOCATION:Wagner Community Center
UID:e.333.4910
SEQUENCE:3
DTSTAMP:20260424T145522Z
URL:https://chambermaster.elmhurstchamber.org/events/details/amazing-gingerbread-houses-11-26-2012-4910
END:VEVENT

END:VCALENDAR
