BEGIN:VCALENDAR
VERSION:2.0
PRODID:-//ChamberMaster//Event Calendar 2.0//EN
METHOD:PUBLISH
X-PUBLISHED-TTL:P3D
REFRESH-INTERVAL:P3D
CALSCALE:GREGORIAN
BEGIN:VEVENT
DTSTART:20130925T180000Z
DTEND:20130925T200000Z
X-MICROSOFT-CDO-ALLDAYEVENT:FALSE
SUMMARY:An Afternoon for Veterans
DESCRIPTION:The Elmhurst Historical Museum invites local veterans (who have served in any capacity) and their families for a special afternoon in their honor. Guided tours at 1\, 2 and 3 p.m. will explore the "Our Lives\, Our Stories" exhibit. Complimentary refreshments served in the Education Center. Reservations requested: Call 630-833-1457 or e-mail ehm@elmhurst.org (please mention preferred tour time slot). Please call to make arrangements for groups of 10 or more.
X-ALT-DESC;FMTTYPE=text/html:The Elmhurst Historical Museum invites local veterans (who have served in any capacity) and their families for a special afternoon in their honor. Guided tours at 1\, 2 and 3 p.m. will explore the &quot\;Our Lives\, Our Stories&quot\; exhibit. Complimentary refreshments served in the Education Center. Reservations requested: Call 630-833-1457 or e-mail ehm@elmhurst.org (please mention preferred tour time slot). Please call to make arrangements for groups of 10 or more.
LOCATION:Elmhurst Historical Museum\, 120 E. Park Ave.\, Elmhurst 60126
UID:e.333.5593
SEQUENCE:3
DTSTAMP:20260422T112251Z
URL:https://chambermaster.elmhurstchamber.org/events/details/an-afternoon-for-veterans-09-25-2013-5593
END:VEVENT

END:VCALENDAR
