BEGIN:VCALENDAR
VERSION:2.0
PRODID:-//ChamberMaster//Event Calendar 2.0//EN
METHOD:PUBLISH
X-PUBLISHED-TTL:P3D
REFRESH-INTERVAL:P3D
CALSCALE:GREGORIAN
BEGIN:VEVENT
DTSTART:20110824T230000Z
DTEND:20110825T010000Z
X-MICROSOFT-CDO-ALLDAYEVENT:FALSE
SUMMARY:An Evening of FUN!
DESCRIPTION:You are invited to an evening of fun and prizes\, food and prizes\, raffles\, and MORE prizes!  Plus a magic show by Ronald McDonald himself!\n\n\n\nAn evening of fun with a greater purpose--to raise funds for the Ronald McDonald House.\n\n\n\nEach $10 tax-deductible entry ticket donation includes: 1 ticket for Grand Prize Drawing\, Live Band\, and Snacks!\n\n\n\nAlso available will be a "split the pot raffle"\, bake sale\, and much more!\n\n\n\nCompliments of Coldwell Banker Residential Brokerage & Sandie Loeser-Riva
X-ALT-DESC;FMTTYPE=text/html:You are invited to an evening of fun and prizes\, food and prizes\, raffles\, and MORE prizes!&nbsp\; Plus a magic show by Ronald McDonald himself!<br />\n<br />\nAn evening of fun with a greater purpose--to raise funds for the Ronald McDonald House.<br />\n<br />\nEach $10 tax-deductible entry ticket donation includes: 1 ticket for Grand Prize Drawing\, Live Band\, and Snacks!<br />\n<br />\nAlso available will be a &quot\;split the pot raffle&quot\;\, bake sale\, and much more!<br />\n<br />\nCompliments of Coldwell Banker Residential Brokerage &amp\; Sandie Loeser-Riva
LOCATION:190 N York Road\, Elmhurst City Centre
UID:e.333.4258
SEQUENCE:3
DTSTAMP:20260425T144955Z
URL:https://chambermaster.elmhurstchamber.org/events/details/an-evening-of-fun-08-24-2011-4258
END:VEVENT

END:VCALENDAR
