BEGIN:VCALENDAR
VERSION:2.0
PRODID:-//ChamberMaster//Event Calendar 2.0//EN
METHOD:PUBLISH
X-PUBLISHED-TTL:P3D
REFRESH-INTERVAL:P3D
CALSCALE:GREGORIAN
BEGIN:VEVENT
DTSTART:20110310T190000Z
DTEND:20110403T220000Z
X-MICROSOFT-CDO-ALLDAYEVENT:FALSE
SUMMARY:Anne Frank: A History for today
DESCRIPTION:The history of the Holocaust unfolds in this traveling exhibition that reveals the story of Anne Frank through family photographs and images of historical events that impacted her family. The exhibit illuminates the choices made by those who resisted tyranny\, remained bystanders or joined the Nazi Party\, and how those choices changed history. Anne Frank: A History for Today was developed by the Anne Frank House and is sponsored in North America by the Anne Frank Center USA. Ages 10 and up with parental discretion. Free admission. Hours: Tuesday-Sunday\, 1-5 p.m.
X-ALT-DESC;FMTTYPE=text/html:The history of the Holocaust unfolds in this traveling exhibition that reveals the story of Anne Frank through family photographs and images of historical events that impacted her family. The exhibit illuminates the choices made by those who resisted tyranny\, remained bystanders or joined the Nazi Party\, and how those choices changed history. Anne Frank: A History for Today was developed by the Anne Frank House and is sponsored in North America by the Anne Frank Center USA. Ages 10 and up with parental discretion. Free admission. Hours: Tuesday-Sunday\, 1-5 p.m. 
LOCATION:Elmhurst Historical Museum 120 E. Park Ave.\, Elmhurst
UID:e.333.4097
SEQUENCE:3
DTSTAMP:20260425T221328Z
URL:https://chambermaster.elmhurstchamber.org/events/details/anne-frank-a-history-for-today-03-10-2011-4097
END:VEVENT

END:VCALENDAR
