BEGIN:VCALENDAR
VERSION:2.0
PRODID:-//ChamberMaster//Event Calendar 2.0//EN
METHOD:PUBLISH
X-PUBLISHED-TTL:P3D
REFRESH-INTERVAL:P3D
CALSCALE:GREGORIAN
BEGIN:VEVENT
DTSTART:20130504T150000Z
DTEND:20130504T220000Z
X-MICROSOFT-CDO-ALLDAYEVENT:FALSE
SUMMARY:Art in the Park
DESCRIPTION:May 4 and May 5\n\n	Join us for the annual juried show of fine arts\, craft and design.  With music\, children's activities and food vendors.
X-ALT-DESC;FMTTYPE=text/html:<p class="MsoNormal" style="margin: 0in 0in 0pt 0.1in\;">\n	<span style="font-size: 10pt\;"><font color="#000000"><font face="Calibri">May 4 and May 5<o:p></o:p></font></font></span></p>\n<p class="MsoNormal" style="margin: 0in 0in 0pt 0.1in\;">\n	<span style="font-size: 10pt\;"><font color="#000000"><font face="Calibri">Join us for the annual juried show of fine arts\, craft and design.<span style="mso-spacerun: yes\;">&nbsp\; </span>With music\, children&rsquo\;s activities and food vendors.<span style="mso-spacerun: yes\;">&nbsp\; </span><o:p></o:p></font></font></span></p>\n
LOCATION:Wilder Park
UID:e.333.5195
SEQUENCE:3
DTSTAMP:20260422T180506Z
URL:https://chambermaster.elmhurstchamber.org/events/details/art-in-the-park-05-04-2013-5195
END:VEVENT

END:VCALENDAR
