BEGIN:VCALENDAR
VERSION:2.0
PRODID:-//ChamberMaster//Event Calendar 2.0//EN
METHOD:PUBLISH
X-PUBLISHED-TTL:P3D
REFRESH-INTERVAL:P3D
CALSCALE:GREGORIAN
BEGIN:VEVENT
DTSTART:20110310T010000Z
DTEND:20110310T020000Z
X-MICROSOFT-CDO-ALLDAYEVENT:FALSE
SUMMARY:Ash Wednesday Service
DESCRIPTION:Ash Wednesday Service at Episcopal Church of our Savior
X-ALT-DESC;FMTTYPE=text/html:Ash Wednesday Service at Episcopal Church of our Savior
LOCATION:116 E. Church Street\, Elmhurst
UID:e.333.3876
SEQUENCE:3
DTSTAMP:20260425T221928Z
URL:https://chambermaster.elmhurstchamber.org/events/details/ash-wednesday-service-03-09-2011-3876
END:VEVENT

END:VCALENDAR
