BEGIN:VCALENDAR
VERSION:2.0
PRODID:-//ChamberMaster//Event Calendar 2.0//EN
METHOD:PUBLISH
X-PUBLISHED-TTL:P3D
REFRESH-INTERVAL:P3D
CALSCALE:GREGORIAN
BEGIN:VEVENT
DTSTART:20130413T193000Z
DTEND:20130413T210000Z
X-MICROSOFT-CDO-ALLDAYEVENT:FALSE
SUMMARY:Baroque Glories
DESCRIPTION:Saturday\, April 13\, 2013\, 2:30 pm\n\n\n\nElmhurst Symphony Musicians in performance at Mayslake.\n\n\n\nFeaturing Rika Seko on violin\, Katherine Carter on violin\, Josefien Stoppelenburg soprano\, Stephen Alltop on harpsichord and conductor\, and musicians of the Elmhurst Symphony Orchestra. \n\n\n\nA not-to-be-missed opportunity to hear renowned Dutch soprano Josefien Stoppelenburg in Handel's brilliant Gloria. Re-discovered in the year 2000\, this showpiece includes some of the composer's most virtuosic coloratura passages. The concert includes Handel's lovely German arias and Haydn's Concerto for Violin and Harpsichord.
X-ALT-DESC;FMTTYPE=text/html:Saturday\, April 13\, 2013\, 2:30 pm<br />\n<br />\nElmhurst Symphony Musicians in performance at Mayslake.<br />\n<br />\nFeaturing Rika Seko on violin\, Katherine Carter on violin\, Josefien Stoppelenburg soprano\, Stephen Alltop on harpsichord and conductor\, and musicians of the Elmhurst Symphony Orchestra.&nbsp\;<br />\n<br />\nA not-to-be-missed opportunity to hear renowned Dutch soprano Josefien Stoppelenburg in Handel&#39\;s brilliant Gloria. Re-discovered in the year 2000\, this showpiece includes some of the composer&#39\;s most virtuosic coloratura passages. The concert includes Handel&#39\;s lovely German arias and Haydn&#39\;s Concerto for Violin and Harpsichord.&nbsp\;
LOCATION:Mayslake Peabody Estate\, 1717 31st St\, Oak Brook\, IL 60523
UID:e.333.5249
SEQUENCE:3
DTSTAMP:20260422T194058Z
URL:https://chambermaster.elmhurstchamber.org/events/details/baroque-glories-04-13-2013-5249
END:VEVENT

END:VCALENDAR
