BEGIN:VCALENDAR
VERSION:2.0
PRODID:-//ChamberMaster//Event Calendar 2.0//EN
METHOD:PUBLISH
X-PUBLISHED-TTL:P3D
REFRESH-INTERVAL:P3D
CALSCALE:GREGORIAN
BEGIN:VEVENT
DTSTART:20130622T200000Z
DTEND:20130623T020000Z
X-MICROSOFT-CDO-ALLDAYEVENT:FALSE
SUMMARY:Battle of the Bands
DESCRIPTION:The Elmhurst Park District Teen Battle of the Bands features local teen bands performing and competing throughout the evening in the Addison Parking Lot at 132 N. Addison Ave. in Downtown Elmhurst.  Bands are judged on musicality\, originality\, stage presentation and overall performance.  The winning band will battle for a chance to compete in the regional Battle of the Bands competition through the Illinois Parks and Recreation Association with the potential of advancing to the state finals on August at the Illinois State Fair.\n\n	\n\n	Bands interested in competing should fill out the application (found at the Wagner Community Center) or at www.epd.org\n\n	and return it\, along with a recording of the band by 9 p.m. Friday\, May 10 to the Wagner Community Center at 615 N. West Ave.  For questions and information\, please contact Sarah at (630) 993-4724 or SLagesse@epd.org
X-ALT-DESC;FMTTYPE=text/html:<p class="MsoNormal" style="margin: 0in 0in 0pt 0.1in\;">\n	<span style="font-size: 10pt\;"><font color="#000000"><font face="Calibri">The Elmhurst Park District Teen Battle of the Bands features local teen bands performing and competing throughout the evening in the Addison Parking Lot at 132 N. Addison Ave. in Downtown Elmhurst.<span style="mso-spacerun: yes\;">&nbsp\; </span>Bands are judged on musicality\, originality\, stage presentation and overall performance.<span style="mso-spacerun: yes\;">&nbsp\; </span>The winning band will battle for a chance to compete in the regional Battle of the Bands competition through the Illinois Parks and Recreation Association with the potential of advancing to the state finals on August at the Illinois State Fair.<br />\n	<br />\n	Bands interested in competing should fill out the application (found at the Wagner Community Center) or at <a href="http://www.epd.org">www.epd.org</a><br />\n	and return it\, along with a recording of the band by 9 p.m. Friday\, May 10 to the Wagner Community Center at 615 N. West Ave.&nbsp\; For questions and information\, please contact Sarah at (630) 993-4724 or <a href="mailto:SLagesse@epd.org">SLagesse@epd.org</a></font></font></span></p>\n
LOCATION:Addison Parking Lot at 132 N. Addison Ave. in Elmhurst
UID:e.333.5197
SEQUENCE:3
DTSTAMP:20260422T164831Z
URL:https://chambermaster.elmhurstchamber.org/events/details/battle-of-the-bands-06-22-2013-5197
END:VEVENT

END:VCALENDAR
