BEGIN:VCALENDAR
VERSION:2.0
PRODID:-//ChamberMaster//Event Calendar 2.0//EN
METHOD:PUBLISH
X-PUBLISHED-TTL:P3D
REFRESH-INTERVAL:P3D
CALSCALE:GREGORIAN
BEGIN:VEVENT
DTSTART:20101204T160000Z
DTEND:20101204T220000Z
X-MICROSOFT-CDO-ALLDAYEVENT:FALSE
SUMMARY:Be The Match
DESCRIPTION:Would you like to be a hero? Would you like to save someone's life? You can be the match.  I (Martin Gollogly) was diagnosed with LLC and my doctor told me I had a great chance if I found a match for a bone marrow transplant.  None of my siblings matched me and a donor for Germany was found through the registry.  Now everyday I give thanks to that anonymous hero who took the time to give blood so that I have my quality of life back\, my kids have their father and my wife has her husband. Today i am blessed\, back at work supporting my family and doing my best to give back to the organization that saved my life.\n\n	\n\n	Thousands of patients depend on the Be The Match Registry to find a donor who can give them a second change at life. You have the power to heal\, the power to save a life. Take the first step. Join the registry.\n\n	\n\n	To join\, you only need to be between the ages of 18 and 60\, be willing to donate to any patient in need\, and meet the heal guidelines.
X-ALT-DESC;FMTTYPE=text/html:<p>\n	Would you like to be a hero? Would you like to save someone&#39\;s life? You can be the match.&nbsp\; I (Martin Gollogly) was diagnosed with LLC and my doctor told me I had a great chance if I found a match for a bone marrow transplant.&nbsp\; None of my siblings matched me and a donor for Germany was found through the registry.&nbsp\; Now everyday I give thanks to that anonymous hero who took the time to give blood so that I have my quality of life back\, my kids have their father and my wife has her husband. Today i am blessed\, back at work supporting my family and doing my best to give back to the organization that saved my life.<br />\n	<br />\n	Thousands of patients depend on the Be The Match Registry to find a donor who can give them a second change at life. You have the power to heal\, the power to save a life. Take the first step. Join the registry.<br />\n	<br />\n	To join\, you only need to be between the ages of 18 and 60\, be willing to donate to any patient in need\, and meet the heal guidelines.<br />\n	<br />\n	<span _fck_bookmark="1" style="display: none">&nbsp\;</span><br />\n	<span _fck_bookmark="1" style="display: none">&nbsp\;</span></p>\n
LOCATION:Concord Place Ballroom 401 W Lake St. Northlake\, IL 60164
UID:e.333.3529
SEQUENCE:3
DTSTAMP:20260426T042716Z
URL:https://chambermaster.elmhurstchamber.org/events/details/be-the-match-12-04-2010-3529
END:VEVENT

END:VCALENDAR
