BEGIN:VCALENDAR
VERSION:2.0
PRODID:-//ChamberMaster//Event Calendar 2.0//EN
METHOD:PUBLISH
X-PUBLISHED-TTL:P3D
REFRESH-INTERVAL:P3D
CALSCALE:GREGORIAN
BEGIN:VEVENT
DTSTART:20120329T230000Z
DTEND:20120330T010000Z
X-MICROSOFT-CDO-ALLDAYEVENT:FALSE
SUMMARY:Benjamin Moore "Find Your Perfect Color"
DESCRIPTION:Join Terrace Paint & Wallcovering for a free Benjamin Moore color seminar to "Find Your Perfect Color." \n\nThe event is on Thursday March 29 from 6:00 to 8:00 pm at Terrace Paint & Wallcovering.\n\n\n\nGuests will receive a gift bag from Benjamin Moore valued at $50. The admission is free with RSVP. Call 630-268-1100 or email jessica@terracepaint.com to reserve a seat. We look forward to having a great time!
X-ALT-DESC;FMTTYPE=text/html:Join Terrace Paint &amp\; Wallcovering&nbsp\;for a&nbsp\;free Benjamin Moore color seminar&nbsp\;to &quot\;Find Your Perfect Color.&quot\;&nbsp\;<br />\nThe&nbsp\;event is&nbsp\;on Thursday&nbsp\;March 29&nbsp\;from 6:00 to&nbsp\;8:00 pm at Terrace Paint &amp\; Wallcovering.<br />\n<br />\nGuests will receive a gift bag from Benjamin Moore valued at $50. The admission is free with RSVP. Call 630-268-1100 or email jessica@terracepaint.com to reserve a seat. We look forward to having a great time!<br />\n<br />\n
LOCATION:Terrace Paint & Wallcovering 401 W. St. Charles Rd. Villa Park\, IL 60181
UID:e.333.4813
SEQUENCE:3
DTSTAMP:20260425T035533Z
URL:https://chambermaster.elmhurstchamber.org/events/details/benjamin-moore-find-your-perfect-color-03-29-2012-4813
END:VEVENT

END:VCALENDAR
