BEGIN:VCALENDAR
VERSION:2.0
PRODID:-//ChamberMaster//Event Calendar 2.0//EN
METHOD:PUBLISH
X-PUBLISHED-TTL:P3D
REFRESH-INTERVAL:P3D
CALSCALE:GREGORIAN
BEGIN:VEVENT
DTSTART:20131016T230000Z
DTEND:20131017T010000Z
X-MICROSOFT-CDO-ALLDAYEVENT:FALSE
SUMMARY:Best Practices for Breast Health
DESCRIPTION:A special presentation by Dr. Linh O'Connor\, hosted by Park Place.\n\nTopics to include:\n\n	\n		Early Detection and Screening Guidelines for Breast Cancer\n	\n		Newer Interventions for Treatment\n	\n		Breast Health and Cancer Myths\n	\n		Nutrition and Exercise:  How to be Proactive\n\nPark Place is celebrating Breast Cancer Awareness Month with a special presentation by Dr. Linh O'Connor.  Dr. O'Connor is a general surgeon\, and breast cancer/health management is one of her specialties.  From offices in Elmhurst and Bloomingdale\, she offers healing and hope.\n\n\n\nView the event flyer by clicking HERE.
X-ALT-DESC;FMTTYPE=text/html:A special presentation by Dr. Linh O&#39\;Connor\, hosted by Park Place.<br />\nTopics to include:\n<ul>\n	<li>\n		Early Detection and Screening Guidelines for Breast Cancer</li>\n	<li>\n		Newer Interventions for Treatment</li>\n	<li>\n		Breast Health and Cancer Myths</li>\n	<li>\n		Nutrition and Exercise: &nbsp\;How to be Proactive</li>\n</ul>\nPark Place is celebrating Breast Cancer Awareness Month with a special presentation by Dr. Linh&nbsp\;O&#39\;Connor. &nbsp\;Dr. O&#39\;Connor is a general surgeon\, and breast cancer/health management is one of her specialties. &nbsp\;From offices in Elmhurst and Bloomingdale\, she offers healing and hope.<br />\n<br />\nView the event flyer by clicking <a href="http://cloud.chambermaster.com/userfiles/UserFiles/chambers/333/File/ParkPlace.JPG">HERE</a>.<br />\n
LOCATION:Park Place Health & Wellness Center 1150 S. Euclid Ave. Elmhurst\, IL
UID:e.333.5888
SEQUENCE:3
DTSTAMP:20260422T112440Z
URL:https://chambermaster.elmhurstchamber.org/events/details/best-practices-for-breast-health-10-16-2013-5888
END:VEVENT

END:VCALENDAR
