BEGIN:VCALENDAR
VERSION:2.0
PRODID:-//ChamberMaster//Event Calendar 2.0//EN
METHOD:PUBLISH
X-PUBLISHED-TTL:P3D
REFRESH-INTERVAL:P3D
CALSCALE:GREGORIAN
BEGIN:VEVENT
DTSTART:20110625T140000Z
DTEND:20110625T220000Z
X-MICROSOFT-CDO-ALLDAYEVENT:FALSE
SUMMARY:BEWSF's "Champs for Charity Fundrasier" with Celebrity Guest
DESCRIPTION:Chicago Bulls Legend Sidney Green will make an appearance at 3 p.m. during the Father/ Child Free Throw Contest.  Green was selected by the Bulls in 1983 as #5 overall draft pick and played power forward with the team from 1983-1986.  He is now the Bulls' Player Development Ambassador.\n\n\n\nFirst place teams for 3 on 3 Tourney and Free Throw Contest are guaranteed to double their money!  Early on-line registrants will receive a complimentary gift courtesy of the BEWSF and Chicago Bulls upon arrival.\n\n\n\nVisit www.BrianEWagnerFund.Org\, to register now!
X-ALT-DESC;FMTTYPE=text/html:Chicago Bulls Legend Sidney Green will make an appearance at 3 p.m. during the Father/ Child Free Throw Contest.&nbsp\; Green was selected by the Bulls in 1983 as #5 overall draft pick and played power forward with the team from 1983-1986.&nbsp\; He is now the Bulls&#39\; Player Development Ambassador.<br />\n<br />\nFirst place teams for 3 on 3 Tourney and Free Throw Contest are guaranteed to double their money!&nbsp\; Early on-line registrants will receive a complimentary gift courtesy of the BEWSF and Chicago Bulls upon arrival.<br />\n<br />\nVisit <a href="http://www.brianewagnerfund.org">www.BrianEWagnerFund.Org</a>\, to register now!
LOCATION:Visitation's Valentino Center Gym 851 South York Street Elmhurst\, IL 60126
UID:e.333.4239
SEQUENCE:3
DTSTAMP:20260425T175809Z
URL:https://chambermaster.elmhurstchamber.org/events/details/bewsf-s-champs-for-charity-fundrasier-with-celebrity-guest-06-25-2011-4239
END:VEVENT

END:VCALENDAR
