BEGIN:VCALENDAR
VERSION:2.0
PRODID:-//ChamberMaster//Event Calendar 2.0//EN
METHOD:PUBLISH
X-PUBLISHED-TTL:P3D
REFRESH-INTERVAL:P3D
CALSCALE:GREGORIAN
BEGIN:VEVENT
DTSTART:20130518T150000Z
DTEND:20130518T170000Z
X-MICROSOFT-CDO-ALLDAYEVENT:FALSE
SUMMARY:Bike Rodeo
DESCRIPTION:We will be holding all the festivities at the Depot\, where the Prairie Path and Safety Town come together.  This year we will be expanding the activities for the whole family.  We will still have Safety Town open for the little ones.  So please bring your tricycles or you can borrow one of ours.  For children who are riding on two wheelers\, we will have skills course laid out in the Vallette parking lot.  This course will consist of nine stations that will teach the kids different bike safety tactics and skills.  The participants will have plenty of time to learn and practice the skills being taught.\n\n	 \n\n	Each member of the family will have the opportunity to register their bike with the Elmhurst Police Department.  A representative from Active Transportation Alliance will be on hand to do helmet checks and ABC Quick checks on all the bikes.  A local bike shop will also be on hand to so small tune ups on the bikes in need.  Certificates are available for those that attend.  There will be refreshments and safety fun for the entire family.
X-ALT-DESC;FMTTYPE=text/html:<p class="MsoNormal" style="margin: 0in 0in 0pt 0.1in\;">\n	<span style="font-size: 10pt\;"><font face="Calibri"><font color="#000000">We will be holding all the festivities&nbsp\;at the Depot\, where&nbsp\;the Prairie Path and Safety Town come together.<span style="mso-spacerun: yes\;">&nbsp\; </span>This year we will be expanding the activities for the whole family.<span style="mso-spacerun: yes\;">&nbsp\; </span>We will still have Safety Town open for the little ones.<span style="mso-spacerun: yes\;">&nbsp\; </span>So please bring your tricycles or you can borrow one of ours.<span style="mso-spacerun: yes\;">&nbsp\; </span>For children who are riding on two wheelers\, we will have skills course laid out in the Vallette parking lot.<span style="mso-spacerun: yes\;">&nbsp\; </span>This course will consist of nine stations that will teach the kids different bike safety tactics and skills.<span style="mso-spacerun: yes\;">&nbsp\; </span>The participants will have plenty of time to learn and practice the skills being taught.<o:p></o:p></font></font></span></p>\n<p class="MsoNormal" style="margin: 0in 0in 0pt 0.1in\;">\n	<span style="font-size: 10pt\;"><o:p><font color="#000000" face="Calibri">&nbsp\;</font></o:p></span></p>\n<p class="MsoNormal" style="margin: 0in 0in 0pt 0.1in\;">\n	<span style="font-size: 10pt\;"><font color="#000000"><font face="Calibri">Each member of the family will have the opportunity to register their bike with the Elmhurst Police Department.<span style="mso-spacerun: yes\;">&nbsp\; </span>A representative from Active Transportation Alliance will be on hand to do helmet checks and ABC Quick checks on all the bikes.<span style="mso-spacerun: yes\;">&nbsp\; </span>A local bike shop will also be on hand to so small tune ups on the bikes in need.<span style="mso-spacerun: yes\;">&nbsp\; </span>Certificates are available for those that attend.<span style="mso-spacerun: yes\;">&nbsp\; </span>There will be refreshments and safety fun for the entire family.<o:p></o:p></font></font></span></p>\n
LOCATION:The Depot
UID:e.333.5206
SEQUENCE:3
DTSTAMP:20260422T180558Z
URL:https://chambermaster.elmhurstchamber.org/events/details/bike-rodeo-05-18-2013-5206
END:VEVENT

END:VCALENDAR
