BEGIN:VCALENDAR
VERSION:2.0
PRODID:-//ChamberMaster//Event Calendar 2.0//EN
METHOD:PUBLISH
X-PUBLISHED-TTL:P3D
REFRESH-INTERVAL:P3D
CALSCALE:GREGORIAN
BEGIN:VEVENT
DTSTART:20130420T140000Z
DTEND:20130420T153000Z
X-MICROSOFT-CDO-ALLDAYEVENT:FALSE
SUMMARY:Birding at Eldridge
DESCRIPTION:The birds have returned so Spring is here!  In this class\, we will search for birds in the many habitats at Eldridge Park.  You will also learn about various window treatments to discourage bird collisions.  Cost is per family.  Please visit our website for code number.
X-ALT-DESC;FMTTYPE=text/html:The birds have returned so Spring is here!&nbsp\; In this class\, we will search for birds in the many habitats at Eldridge Park.&nbsp\; You will also learn about various window treatments to discourage bird collisions.&nbsp\; Cost is per family.&nbsp\;&nbsp\;Please visit our website&nbsp\;for code number.
LOCATION:Eldridge Park
UID:e.333.5200
SEQUENCE:3
DTSTAMP:20260422T194030Z
URL:https://chambermaster.elmhurstchamber.org/events/details/birding-at-eldridge-04-20-2013-5200
END:VEVENT

END:VCALENDAR
