BEGIN:VCALENDAR
VERSION:2.0
PRODID:-//ChamberMaster//Event Calendar 2.0//EN
METHOD:PUBLISH
X-PUBLISHED-TTL:P3D
REFRESH-INTERVAL:P3D
CALSCALE:GREGORIAN
BEGIN:VEVENT
DTSTART:20130622T160000Z
DTEND:20130622T190000Z
X-MICROSOFT-CDO-ALLDAYEVENT:FALSE
SUMMARY:Birthday Party at The Hub
DESCRIPTION:All Ages\n\n	Celebrate the Hub's 10th season with an afternoon full of fun.  Stop by for lunch off the grill\, a chance to win prizes\, take part in backyard games\, meet Eco the raccoon and enjoy a FREE root beer float.  You can also take advantage of our $10 special (per person) pass which gives you admission to the spray ground along with unlimited use of the batting cages and mini-golf.
X-ALT-DESC;FMTTYPE=text/html:<p class="MsoNormal" style="margin: 0in 0in 0pt 0.1in\;">\n	<font color="#000000" face="Calibri" size="3">All Ages</font></p>\n<p class="MsoNormal" style="margin: 0in 0in 0pt 0.1in\;">\n	<font color="#000000"><font face="Calibri"><font size="3">Celebrate the Hub&rsquo\;s 10</font><sup><font size="2">th</font></sup><font size="3"> season with an afternoon full of fun.<span style="mso-spacerun: yes\;">&nbsp\; </span>Stop by for lunch off the grill\, a chance to win prizes\, take part in backyard games\, meet Eco the raccoon and enjoy a FREE root beer float.<span style="mso-spacerun: yes\;">&nbsp\; </span></font><font size="3">You can also take advantage of our $10 special (per person) pass which gives you admission to the spray ground along with unlimited use of the batting cages and mini-golf.</font></font></font></p>\n
LOCATION:The Hub at Beren's Park
UID:e.333.5295
SEQUENCE:3
DTSTAMP:20260422T164229Z
URL:https://chambermaster.elmhurstchamber.org/events/details/birthday-party-at-the-hub-06-22-2013-5295
END:VEVENT

END:VCALENDAR
