BEGIN:VCALENDAR
VERSION:2.0
PRODID:-//ChamberMaster//Event Calendar 2.0//EN
METHOD:PUBLISH
X-PUBLISHED-TTL:P3D
REFRESH-INTERVAL:P3D
CALSCALE:GREGORIAN
BEGIN:VEVENT
DTSTART:20260425T180000Z
DTEND:20260425T200000Z
X-MICROSOFT-CDO-ALLDAYEVENT:FALSE
SUMMARY:Blush Dry Bar Grand Opening
DESCRIPTION:Big moments deserve a proper celebration ??? Blush Dry Bar is officially celebrating our GRAND OPENING and you're invited!! Join us for an afternoon of beauty\, community\, and all the little details we love:   Charm bracelet bar   Custom bangle bar (including Kashmiri bangles ??)   Light bites & mocktails   Raffles & exclusive giveaways We'll also be announcing our memberships ??   and if you purchase one at the grand opening\, you'll get 15% off your first month. Any appointments booked that day will receive 10% off ? ?? 112 West Park Ave\, Elmhurst ?? April 25th ? 1:00 3:00 PM (Ribbon cutting at 1:30 PM) ?? Link in bio to RSVP! This has been such a special journey and I can't wait to celebrate this moment with all of you ???? Come celebrate with us   save the date\, bring a friend\, and don't miss it!! ???
X-ALT-DESC;FMTTYPE=text/html:Big moments deserve a proper celebration ??? Blush Dry Bar is officially celebrating our GRAND OPENING and you&rsquo\;re invited!! Join us for an afternoon of beauty\, community\, and all the little details we love: &bull\; Charm bracelet bar &bull\; Custom bangle bar (including Kashmiri bangles ??) &bull\; Light bites &amp\; mocktails &bull\; Raffles &amp\; exclusive giveaways We&rsquo\;ll also be announcing our memberships ?? &mdash\; and if you purchase one at the grand opening\, you&rsquo\;ll get 15% off your first month. Any appointments booked that day will receive 10% off ? ?? 112 West Park Ave\, Elmhurst ?? April 25th ? 1:00&ndash\;3:00 PM (Ribbon cutting at 1:30 PM) ?? Link in bio to RSVP! This has been such a special journey and I can&rsquo\;t wait to celebrate this moment with all of you ???? Come celebrate with us &mdash\; save the date\, bring a friend\, and don&rsquo\;t miss it!! ???
LOCATION:112 West Park Ave\, Elmhurst\, IL 60126 (upstairs)
UID:e.333.17154
SEQUENCE:3
DTSTAMP:20260420T195736Z
URL:https://chambermaster.elmhurstchamber.org/events/details/blush-dry-bar-grand-opening-17154
END:VEVENT

END:VCALENDAR
