BEGIN:VCALENDAR
VERSION:2.0
PRODID:-//ChamberMaster//Event Calendar 2.0//EN
METHOD:PUBLISH
X-PUBLISHED-TTL:P3D
REFRESH-INTERVAL:P3D
CALSCALE:GREGORIAN
BEGIN:VEVENT
DTSTART:20250502T000000Z
DTEND:20250502T030000Z
X-MICROSOFT-CDO-ALLDAYEVENT:FALSE
SUMMARY:Brain Health\, Improving Cognitive Function\, Reducing Cognitive Decline
DESCRIPTION:The Elmhurst Knights of Columbus is hosting a LifeTalks series this summer providing presentations on Health and Artificial Intelligence. The initial presentation is by Dr. John Saran\, MD\, board-certified in General Internal Medicine and Geriatric Medicine presenting strategies to reduce cognitive decline (dementia) and improve our brain health and function. Thursday\, May 1 at The Renaissance Room at 537 S. York St. Doors open at 5:00 PM with cash bar and subs available. Presentation beginning at 7:00 with a Q&A following.
X-ALT-DESC;FMTTYPE=text/html:The Elmhurst Knights of Columbus is hosting a LifeTalks series this summer providing presentations on Health and Artificial Intelligence. The initial presentation is by Dr. John Saran\, MD\, board-certified in General Internal Medicine and Geriatric Medicine presenting strategies to reduce cognitive decline (dementia) and improve our brain health and function. Thursday\, May 1 at The Renaissance Room at 537 S. York St. Doors open at 5:00 PM with cash bar and subs available. Presentation beginning at 7:00 with a Q&amp\;A following.
LOCATION:The Rennaissance Room\, 537 S. York Street\, Elmhurst\, IL. 60126+
UID:e.333.17041
SEQUENCE:3
DTSTAMP:20260419T171519Z
URL:https://chambermaster.elmhurstchamber.org/events/details/brain-health-improving-cognitive-function-reducing-cognitive-decline-17041
END:VEVENT

END:VCALENDAR
