BEGIN:VCALENDAR
VERSION:2.0
PRODID:-//ChamberMaster//Event Calendar 2.0//EN
METHOD:PUBLISH
X-PUBLISHED-TTL:P3D
REFRESH-INTERVAL:P3D
CALSCALE:GREGORIAN
BEGIN:VEVENT
DTSTART:20121208T150000Z
DTEND:20121208T163000Z
X-MICROSOFT-CDO-ALLDAYEVENT:FALSE
SUMMARY:Breakfast with Santa
DESCRIPTION:This is a kid-friendly continental breakfast with fun holiday crafts and exciting entertainment. Children can tell Santa all of their holiday wishes and get a picture on his lap.
X-ALT-DESC;FMTTYPE=text/html:<p class="MsoNormal" style="margin: 0in 0in 0pt">\n	<span style="line-height: 115%\; font-family: 'cambria'\, 'serif'\; font-size: 12pt\; mso-ascii-theme-font: major-latin\; mso-hansi-theme-font: major-latin"><font color="#000000">This is a kid-friendly continental breakfast with fun holiday crafts and exciting entertainment. Children can tell Santa all of their holiday wishes and get a picture on his lap. <o:p></o:p></font></span></p>\n
LOCATION:The Abbey
UID:e.333.4908
SEQUENCE:3
DTSTAMP:20260424T131810Z
URL:https://chambermaster.elmhurstchamber.org/events/details/breakfast-with-santa-12-08-2012-4908
END:VEVENT

END:VCALENDAR
