BEGIN:VCALENDAR
VERSION:2.0
PRODID:-//ChamberMaster//Event Calendar 2.0//EN
METHOD:PUBLISH
X-PUBLISHED-TTL:P3D
REFRESH-INTERVAL:P3D
CALSCALE:GREGORIAN
BEGIN:VEVENT
DTSTART:20120511T163000Z
DTEND:20120512T013000Z
X-MICROSOFT-CDO-ALLDAYEVENT:FALSE
SUMMARY:Brian E. Wagner Golf Outing and Dinner
DESCRIPTION:Support a great cause and start an early 3 day weekend by commemorating the life of Brian Edwin Wagner with familiar faces from the neighborhood.\n\n\n\nThe daytime golf outing will feature contests such as: longest putt\, longest drive and closest to pin. Grand prizes will be awarded to any participant that successfully makes a hole in one! Showcase your skills on the golf course and be named the first time champions at this inaugural outing. The dinner reception will follow with a silent auction and presentation of awards to the top teams and individual golfers.\n\n\n\nThe BEWSF was established in memory of Brian E. Wagner after his tragic passing in an automobile accident during the summer prior to his senior year at York High school in 1993.
X-ALT-DESC;FMTTYPE=text/html:Support a great cause and start an early 3 day weekend by commemorating the life of Brian Edwin Wagner with familiar faces from the neighborhood.<br />\n<br />\nThe daytime golf outing will feature contests such as: longest putt\, longest drive and closest to pin. Grand prizes will be awarded to any participant that successfully makes a hole in one! Showcase your skills on the golf course and be named the first time champions at this inaugural outing. The dinner reception will follow with a silent auction and presentation of awards to the top teams and individual golfers.<br />\n<br />\nThe BEWSF was established in memory of Brian E. Wagner after his tragic passing in an automobile accident during the summer prior to his senior year at York High school in 1993.<br />\n
LOCATION:Bloomingdale Golf Club-181 Glen Ellyn Rd.\, Bloomingdale\, IL. 60108
UID:e.333.4834
SEQUENCE:3
DTSTAMP:20260425T003706Z
URL:https://chambermaster.elmhurstchamber.org/events/details/brian-e-wagner-golf-outing-and-dinner-05-11-2012-4834
END:VEVENT

END:VCALENDAR
