BEGIN:VCALENDAR
VERSION:2.0
PRODID:-//ChamberMaster//Event Calendar 2.0//EN
METHOD:PUBLISH
X-PUBLISHED-TTL:P3D
REFRESH-INTERVAL:P3D
CALSCALE:GREGORIAN
BEGIN:VEVENT
DTSTART;VALUE=DATE:20110918
DTEND;VALUE=DATE:20110919
TRANSP:TRANSPARENT
X-MICROSOFT-CDO-ALLDAYEVENT:TRUE
SUMMARY:Brianna & Friends Walk to Talk
DESCRIPTION:Walk the Walk\, So We Can Talk the Talk . . . and together we can help children and young adults on the autism spectrum and with other speech disorders reach their full potential. Whether you are a speed walker or someone who is looking forward to a leisurely stroll with friends and family this is the walk for you! Join families and friends before the walk for a fun-filled party. \n\n	Music   Moon Walk ... Face Painting   Goodie Bag ... \n\n	Food for sale!\n\n	 \n\n	Our walk was inspired by Brianna DiCianni and friends. Learn more about Brianna and her compelling and all too true story to be able to talk.
X-ALT-DESC;FMTTYPE=text/html:<p>\n	<font size="2"><b>Walk the Walk\, So We Can Talk the Talk . . . </b>and together we can help children and young adults on the autism spectrum and with other speech disorders reach their full potential. Whether you are a speed walker or someone who is looking forward to a leisurely stroll with friends and family this is the walk for you! Join families and friends before the walk for a fun-filled party. </font></p>\n<p style="text-align: center\; margin-bottom: 0px">\n	<b><font size="4">Music &hellip\; Moon Walk ... Face Painting &hellip\; Goodie Bag ... </font></b></p>\n<p style="text-align: center\; margin-bottom: 0px">\n	<b><font size="4">Food for sale!</font></b></p>\n<p style="margin-bottom: 0px">\n	&nbsp\;</p>\n<p style="margin-bottom: 0px">\n	Our walk was inspired by Brianna DiCianni and friends. <a href="http://csld.org/StoryofBrianna.pdf">Learn more</a> about Brianna and her compelling and all too true story to be able to talk.</p>\n
LOCATION:Berens Park\, 493 Oaklawn Ave.\, Elmhurst (enter parking lot from West St.)
UID:e.333.4409
SEQUENCE:3
DTSTAMP:20260425T132554Z
URL:https://chambermaster.elmhurstchamber.org/events/details/brianna-friends-walk-to-talk-09-18-2011-4409
END:VEVENT

END:VCALENDAR
