BEGIN:VCALENDAR
VERSION:2.0
PRODID:-//ChamberMaster//Event Calendar 2.0//EN
METHOD:PUBLISH
X-PUBLISHED-TTL:P3D
REFRESH-INTERVAL:P3D
CALSCALE:GREGORIAN
BEGIN:VEVENT
DTSTART:20101107T180000Z
DTEND:20101108T020000Z
X-MICROSOFT-CDO-ALLDAYEVENT:FALSE
SUMMARY:Bridal Expo
DESCRIPTION:Event is in the Waterford Conference Center with rooms open for viewing at the Clarion Hotel.
X-ALT-DESC;FMTTYPE=text/html:Event is in the Waterford Conference Center with rooms open for viewing at the Clarion Hotel.\n<br>
LOCATION:Waterford Conference Center 933 S. Riverside Dr. Elmhurst\, Illinois
UID:e.333.3509
SEQUENCE:3
DTSTAMP:20260426T042809Z
URL:https://chambermaster.elmhurstchamber.org/events/details/bridal-expo-11-07-2010-3509
END:VEVENT

END:VCALENDAR
