BEGIN:VCALENDAR
VERSION:2.0
PRODID:-//ChamberMaster//Event Calendar 2.0//EN
METHOD:PUBLISH
X-PUBLISHED-TTL:P3D
REFRESH-INTERVAL:P3D
CALSCALE:GREGORIAN
BEGIN:VEVENT
DTSTART;VALUE=DATE:20110305
DTEND;VALUE=DATE:20110306
TRANSP:TRANSPARENT
X-MICROSOFT-CDO-ALLDAYEVENT:TRUE
SUMMARY:Bundenbach's Golden Fossils
DESCRIPTION:The slate quarries of Bundenbach\, yielded slate shingles used on roofs for over 400 years.  Quarrymen were the first to notice the rare pyritized fossils embedded in the slate.  By the 1800's fossil collectors recognized the importance of the Bundenbach fossils.  The fossils are Devonian sea creatures preserved by pyrite in slate.  REgular Museum admission.
X-ALT-DESC;FMTTYPE=text/html:The slate quarries of Bundenbach\, yielded slate shingles used on roofs for over 400 years.&nbsp\; Quarrymen were the first to notice the rare pyritized fossils embedded in the slate.&nbsp\; By the 1800&#39\;s fossil collectors recognized the importance of the Bundenbach fossils.&nbsp\; The fossils are Devonian sea creatures preserved by pyrite in slate.&nbsp\; REgular Museum admission.
LOCATION:Lizzadro Museum of Lapidary Art\, 220 Cottage Hill\, Elmhurst\, IL 60126
UID:e.333.3669
SEQUENCE:3
DTSTAMP:20260425T234006Z
URL:https://chambermaster.elmhurstchamber.org/events/details/bundenbach-s-golden-fossils-03-05-2011-3669
END:VEVENT

END:VCALENDAR
